BEGIN:VCALENDAR
VERSION:2.0
PRODID:-//wp-events-plugin.com//7.2.3.1//EN
TZID:Australia/Sydney
X-WR-TIMEZONE:Australia/Sydney
BEGIN:VEVENT
UID:3336@unswoc.org
DTSTART;TZID=Australia/Sydney;VALUE=DATE:20231015
DTEND;TZID=Australia/Sydney;VALUE=DATE:20231016
DTSTAMP:20231011T023124Z
URL:https://unswoc.org/wordpress/events/sunday-bl-thirlmere-lakes-and-bota
 ny-hike/
SUMMARY:[FULL] SUNDAY BL - THIRLMERE LAKES Botany Hike
DESCRIPTION:Sick of hanging around engineers?\nWe've got the solution so dr
 y up your tears.\nCome for some ecology with Leo and I\,\nAnd on this bota
 ny hike we will try\,\nTo ID the critters and plants we encounter\,\nAnd i
 ts spring so things will be in flower.\nIt's a leisurely stroll of 9.2 ks\
 ,\nAround the lovely Thirlmere Lakes.\nIf you want to turn your brain off 
 and relax\,\nToo bad\, I'll also be teaching you hydrology facts.\nWe're a
 ll nerds here\, you see\,\nI even write my trip posts in the form of poetr
 y.\n\nNeed I say more?\n\nActually I do. Leo (the MVP of plant ID\, your f
 avorite plant book-wielding\, mud-collecting\, t-shirt making\, bad-facial
 -hair-rocking ecology fiend) and me (Margot\, your favorite hypothetical-l
 oving\, freestyle-rapping\, toxic\, sandal-wearing eater of any plant put 
 in front of me) will be leading this hike around the Thirlmere Lakes on Su
 nday of Boree Log.\n\nThirlmere Lakes Track: 116 Reviews\, Map - New South
  Wales\, Australia | AllTrails\n\nIt is about halfway between the Kangaroo
  Valley and Sydney\, and we will head back to Sydney afterwards. Its 9.2 k
 ms and is flat so should not be very strenuous. The idea is to take the wa
 lk slow and to try to ID plants as we go\, maybe find some edible ones. Le
 o will share his cool plant facts and I can tell you about the hydrology o
 f the lakes\, which are a pretty unique system. It should be a fun day\, a
 nd we should be done and headed back to Sydney by mid afternoon.\n\nYou'll
  need:\n\n 	Sun protection\n 	Comfy shoes\n 	Water\n 	Lunch\n 	Swimmers (?
 ) I'm unsure if we can swim but it might be an option\n\nIf you are keen t
 o come along\, let me know in the comments:\n\n 	Where you sit on the spec
 trum of "massively stoked to check out cool plants" to "I just want to hau
 l my hungover ass back to Sydney on Sunday and this trip seems like the le
 ast strenuous" (which is okay too).\n 	If you've got a postal vote for the
  referendum\n 	If you have a car\, where you will be headed back to on Sun
 day night (to make sure well be okay with lifts)\n\nAlso\, for my own rese
 arch purposes please let me know in the comments:\n\n 	How many toddlers (
 3yo) you could fight in the colosseum with no weapons\n 	Whether you are b
 aptized (its not for religious discrimination I promise\, I'm just keeping
  stats for a bet)\n\nYou need to be approved for the main Boree Log event 
 to attend these trips. Please sign up for only ONE trip per day. If you ge
 t rejected you can then sign up for another trip\, this just makes it easi
 er for volunteer trip leaders. Please be aware that as the weather is unpr
 edictable\, trip leaders may need to alter trips accordingly.\n\n&nbsp\;
CATEGORIES:Bushwalking
LOCATION:https://www.google.com.au/maps/place/Thirlmere+Lakes+National+Park
 /@-34.2278837,150.5406629,17z/data=!3m1!4b1!4m6!3m5!1s0x6b13aae0808dd447:0
 x6a7be81ce6097e18!8m2!3d-34.2278837!4d150.5432378!16zL20vMHBwX2Y?entry=ttu
END:VEVENT
BEGIN:VTIMEZONE
TZID:Australia/Sydney
X-LIC-LOCATION:Australia/Sydney
BEGIN:DAYLIGHT
DTSTART:20231001T030000
TZOFFSETFROM:+1000
TZOFFSETTO:+1100
TZNAME:AEDT
END:DAYLIGHT
END:VTIMEZONE
END:VCALENDAR