BEGIN:VCALENDAR
VERSION:2.0
PRODID:-//wp-events-plugin.com//7.2.3.1//EN
TZID:Australia/Sydney
X-WR-TIMEZONE:Australia/Sydney
BEGIN:VEVENT
UID:3676@unswoc.org
DTSTART;TZID=Australia/Sydney;VALUE=DATE:20251019
DTEND;TZID=Australia/Sydney;VALUE=DATE:20251020
DTSTAMP:20251006T111037Z
URL:https://unswoc.org/wordpress/events/sunday-bl-the-nest-beginner-sport-
 climbing/
SUMMARY:[FULL] SUNDAY BL - THE NEST Beginner Sport Climbing
DESCRIPTION:You need to be approved for the main Boree Log event to attend 
 these trips. Please sign up for only ONE trip per day. If you get rejected
  you can then sign up for another trip\, this just makes it easier for vol
 unteer trip leaders. Please be aware that as the weather is unpredictable\
 , trip leaders may need to alter trips accordingly.\n\nHey everyone!\n\nHa
 mmy and I (Raff) are headed down to The Nest for some easy hungover climbi
 ng. The nest is riddled with carrot bolts\, so if you have never climbed o
 n them before this is a great spot to learn as the grades start at 8. Chec
 k it out on thecrag\, where you'll notice that the grades go up to 24 so i
 f you're feeling like sending something hard you won't be bored either. We
  will set up top ropes\, but if you want to lead that's all good.\n\nIt wi
 ll likely be a late start as I need my beauty sleep\, however you should e
 xpect a full day of climbing. We will leave from the crag and go straight 
 back to Sydney. You all club gear that is borrowed must be returned before
  leaving. To show that you have read the description\, let me know if you 
 think Hammy will redeem himself and make good food on the Saturday night?\
 n\n\n\nWhat to bring:\n\n 	ATC (or other belay device) *\n 	Locking Carabi
 ner *\n 	Harness *\n 	Helmet *\n 	Climbing Shoes *\n 	Enclosed Shoes\n 	Ap
 propriate clothes (Something you can hike and climb in)\n 	Sunscreen\n 	Ha
 t\n 	2L of Water\n 	Lunch\n 	A backpack that can hold all your stuff\n 	An
 y medications you need\n\nIf you have any of your own personal gear you ar
 e encouraged to bring it\, as club gear can run out. Things like ropes and
  quickdraws will be appreciated.\n\nGear followed by a * can be borrowed o
 n the day\, but again if you have your own please use it.\n\nIn your comme
 nt please let us know what climbing experience you have\, any skills you w
 ould like to learn and anything else you feel is important.
CATEGORIES:Boree Log,Outdoor Climbing
LOCATION:https://maps.app.goo.gl/77oJRWNHmh15zBAs7
END:VEVENT
BEGIN:VTIMEZONE
TZID:Australia/Sydney
X-LIC-LOCATION:Australia/Sydney
BEGIN:DAYLIGHT
DTSTART:20251005T030000
TZOFFSETFROM:+1000
TZOFFSETTO:+1100
TZNAME:AEDT
END:DAYLIGHT
END:VTIMEZONE
END:VCALENDAR