BEGIN:VCALENDAR
VERSION:2.0
PRODID:-//wp-events-plugin.com//7.2.3.1//EN
TZID:Australia/Sydney
X-WR-TIMEZONE:Australia/Sydney
BEGIN:VEVENT
UID:3406@unswoc.org
DTSTART;TZID=Australia/Sydney;VALUE=DATE:20240317
DTEND;TZID=Australia/Sydney;VALUE=DATE:20240318
DTSTAMP:20240317T011240Z
URL:https://unswoc.org/wordpress/events/sunday-bl-tessalated-pavements-hik
 e/
SUMMARY:[FULL] Sunday BL tessalated pavements hike
DESCRIPTION:Hiking trip to tessalated pavements
LOCATION:https://www.google.com/maps/place/Blowfly+Cave+Access,+Bungonia+NS
 W+2580/@-34.8050086,150.0108654,17z/data=!3m1!4b1!4m6!3m5!1s0x6b1405f03a09
 af13:0xbd856de6d476f1ee!8m2!3d-34.8050087!4d150.0157363!16s%2Fg%2F11cjg9n6
 bc?hl=en&entry=ttu
END:VEVENT
BEGIN:VTIMEZONE
TZID:Australia/Sydney
X-LIC-LOCATION:Australia/Sydney
BEGIN:DAYLIGHT
DTSTART:20231001T030000
TZOFFSETFROM:+1000
TZOFFSETTO:+1100
TZNAME:AEDT
END:DAYLIGHT
END:VTIMEZONE
END:VCALENDAR