BEGIN:VCALENDAR
VERSION:2.0
PRODID:-//wp-events-plugin.com//7.2.3.1//EN
TZID:Australia/Sydney
X-WR-TIMEZONE:Australia/Sydney
BEGIN:VEVENT
UID:3098@unswoc.org
DTSTART;VALUE=DATE:20221015
DTEND;VALUE=DATE:20221016
DTSTAMP:20221010T072418Z
URL:https://unswoc.org/wordpress/events/sunday-bl-tbc-hike/
SUMMARY:SATURDAY BL - Tesselated Pavements  - Beginner Hike [Updated]
DESCRIPTION:You need to be approved for the main Boree Log event to attend 
 these trips. Please sign up for only ONE trip per day. If you get rejected
  you can then sign up for another trip\, this just makes it easier for vol
 unteer trip leaders.\n\nUpdate: \n\nGet ready for a nice and relaxing hal
 f day hike to the Tessellated Pavements and seeing some amazing rock patte
 rns (with a semi rock scientist as your tour guide!). There will be some e
 pic views own into the valley\, perhaps some rock art and possibly a quick
  dip!\n\nCheck out some awesome photos!\n\n[caption id="" align="alignnone
 " width="480"] Credit: Ozultimate[/caption]\n\n&nbsp\;\n\nThere will be an
  interesting and likely fairly chill hike on Saturday with the Brendan\, Z
 ee and Caity. You will get back fairly early as we have some of our legend
 ary chefs leading the walk so you can maybe even found out some sneaky sec
 rets for what's for dinner on Saturday...\n\n&nbsp\;\n\nWhat does it invol
 ve?\n\n- Some fun hiking probably involving hills :)\n\n- Bring lunch and 
 water\n\n- Quick swim if you're up for it\n\n- Wear stretchy/loose clothin
 g\, a bit of a scramble may be required\n\nNo actual skills or gear requir
 ed though!\n\n&nbsp\;\n\nWhat to bring:\n\n 	Closed toe shoes (sneakers / 
 hiking boots recommended)\n 	Hiking appropriate clothes (send me a message
  if you need more direction than that and I will help you out).\n 	Lunch a
 nd snacks\n 	2L water\n 	Hat\n 	Bag to carry your stuff\n 	Maybe a raincoa
 t in case the weather turns\n 	Swimmers / Towel if you want to go for a qu
 ick swim.\n 	Good spirits.\n\nComment about your transportation situation 
 and your favourite food!\n\nPlease be aware that as the weather is unpredi
 ctable\, trip leaders may need to alter trips accordingly.
ATTACH;FMTTYPE=image/jpeg:https://unswoc.org/wordpress/wp-content/uploads/
 2017/10/Donkey-Mountain.jpg
CATEGORIES:Boree Log,Bushwalking,Hectic Hiking
END:VEVENT
END:VCALENDAR