BEGIN:VCALENDAR
VERSION:2.0
PRODID:-//wp-events-plugin.com//7.2.3.1//EN
TZID:Australia/Sydney
X-WR-TIMEZONE:Australia/Sydney
BEGIN:VEVENT
UID:3754@unswoc.org
DTSTART;TZID=Australia/Sydney:20260322T090000
DTEND;TZID=Australia/Sydney:20260322T170000
DTSTAMP:20260318T013718Z
URL:https://unswoc.org/wordpress/events/sunday-bl-sunbath-crag-sport-climb
 ing-beginner/
SUMMARY:[FULL] SUNDAY BL - Sunbath Crag Sport Climbing [Beginner]
DESCRIPTION:Howdy Yall\,\nOscar and I (Hamza) will be running beginner-frie
 ndly sport climbing at Sunbath Crag near Medlow Bathhttps://www.thecrag.co
 m/en/climbing/australia/blue-mountains/medlow-bath/area/13143367\nSunbath 
 is a great spot to get comfortable climbing outdoors\, with a nice mix of 
 routes and a chill setup for the day. There’ll be climbs for beginners a
 nd for those keen to push themselves a bit\, ranging from grades 10 up to 
 20+. Whether you're looking to get your first outdoor climbs in or just sp
 end a relaxed day on the wall\, this should be a good time with plenty of 
 routes to go around.\n[You need to be approved for the main Boree Log even
 t to attend these trips. Please sign up for only ONE trip per day. If you 
 get rejected you can then sign up for another trip\, this just makes it ea
 sier for volunteer trip leaders. Please be aware that as the weather is un
 predictable\, trip leaders may need to alter trips accordingly]\n\nThe pla
 n for the day is to meet up at the campground by 9.30 am\, drive over toge
 ther and spend the day climbing with the aim to be back at the cars at ~5:
 00 pm. As this is a beginner trip\, we will teach you the basics of outdoo
 r sport climbing\, such as tying in and top-rope belaying. We are also hap
 py to teach some lead climbing skills as well\, and get you guys practicin
 g. Hidden question: Give me a short paragraph explaining your best conspir
 acy theory?\n\n&nbsp\;\n\nThings to bring:\n\n 	Water (minimum 2L)\n 	Food
  (lunch and snacks)\n 	Climbing shoes * + chalk (optional but helpful)\n 	
 Harness *\n 	Helmet *\n 	Belay device (atc or gri gri) *\n 	Locking carabi
 ner *\n 	Backpack to carry your gear\n 	Walking shoes for approach\n\n* Br
 ing your own if you have\, otherwise club will provide it\n\n&nbsp\;\n\nIn
  your comment below let us know your climbing experience\, whether you hav
 e a car (and how many spots) and answer the hidden question.\n\nOnce you
 ’ve been accepted onto the trip\, we will create a Messenger group chat 
 to organise carpooling and other details\, so please make sure your Facebo
 ok profile is linked to your UNSWOC account.\n\nIf you have any questions\
 , feel free to message me.\n\nHamza &amp\; Oscar
CATEGORIES:Boree Log,Climbing,Outdoor Climbing
LOCATION:https://maps.app.goo.gl/gQ1xPCAyH9WmPA1T7
END:VEVENT
BEGIN:VTIMEZONE
TZID:Australia/Sydney
X-LIC-LOCATION:Australia/Sydney
BEGIN:DAYLIGHT
DTSTART:20251005T030000
TZOFFSETFROM:+1000
TZOFFSETTO:+1100
TZNAME:AEDT
END:DAYLIGHT
END:VTIMEZONE
END:VCALENDAR