BEGIN:VCALENDAR
VERSION:2.0
PRODID:-//wp-events-plugin.com//7.2.3.1//EN
TZID:Australia/Sydney
X-WR-TIMEZONE:Australia/Sydney
BEGIN:VEVENT
UID:3555@unswoc.org
DTSTART;TZID=Australia/Sydney;VALUE=DATE:20250323
DTEND;TZID=Australia/Sydney;VALUE=DATE:20250324
DTSTAMP:20250320T020812Z
URL:https://unswoc.org/wordpress/events/sunday-bl-sport-climbing-at-barden
 s-lookout/
SUMMARY:SUNDAY BL - BARDENS LOOKOUT Sport climbing
DESCRIPTION:“You need to be approved for the main Boree Log event to atte
 nd these trips. Please sign up for only ONE trip per day. If you get rejec
 ted you can then sign up for another trip\, this just makes it easier for 
 volunteer trip leaders. Please be aware that as the weather is unpredictab
 le\, trip leaders may need to alter trips accordingly”\n\nHey everyone\,
 \n\nRaine\, Micah\, Leo\, and I (Marcus) will be leading a beginner friend
 ly sport climbing trip on Sunday of Boree Log to Barden’s Lookout Crag i
 n the Blue Mountains. This area is a great place to be introduced to outdo
 or climbing as there are plenty of easier routes and a variety of grades.\
 n\nIf you have never climbed before\, I would recommend prior to the trip\
 , to start coming along to the Thursday nights at the ledge climbing centr
 e to learn how to top-rope belay and get some practice in :)\n\nThe focus 
 of this trip will be on getting as much wall time for everyone as possible
 \, the trip leaders will be setting up top-ropes for everyone.\n\nPlease i
 nclude in the comments:\n\n 	Your rock climbing experience/grade\, do you 
 do lead climbing indoors?\n 	YouTube link to your favourite tv commercial 
 (optional) (e.g. https://youtu.be/jWlqJ7nL6iE)\n 	If any\, what climbing g
 ear you already own.\n\nWe’ll meet near the trailer at the Cathedral of
  Ferns Campground 🏕️ on Sunday morning to collect gear and do a roll 
 call.\n\nMost gear is provided including a harness\, helmet\, safety sling
 \, locking carabiners\, belay device but you’ll need to bring:\n\n 	Suns
 creen\n 	2L water (stay hydrated)\n 	Food\, snacks to share\n 	Comfortable
  clothes and shoes\n 	Warm jacket\n 	Medication if required\n\n   \n\nPho
 tos of some epic rock for psych!\n\nSee you there!
CATEGORIES:Boree Log,Climbing
LOCATION:https://maps.app.goo.gl/iByNwUGzRfTumCUS8
END:VEVENT
BEGIN:VTIMEZONE
TZID:Australia/Sydney
X-LIC-LOCATION:Australia/Sydney
BEGIN:DAYLIGHT
DTSTART:20241006T030000
TZOFFSETFROM:+1000
TZOFFSETTO:+1100
TZNAME:AEDT
END:DAYLIGHT
END:VTIMEZONE
END:VCALENDAR