BEGIN:VCALENDAR
VERSION:2.0
PRODID:-//wp-events-plugin.com//7.2.3.1//EN
TZID:Australia/Sydney
X-WR-TIMEZONE:Australia/Sydney
BEGIN:VEVENT
UID:3483@unswoc.org
DTSTART;TZID=Australia/Sydney;VALUE=DATE:20241013
DTEND;TZID=Australia/Sydney;VALUE=DATE:20241014
DTSTAMP:20240930T220816Z
URL:https://unswoc.org/wordpress/events/sunday-bl-serindipity-canyoning/
SUMMARY:[FULL] SUNDAY BL - SERINDIPITY Canyoning [Beginner]
DESCRIPTION:Maddi\, Hammy\, and I (Jason) will be running a beginner trip t
 hrough Serendipity Canyon on the Sunday of Boree Log.\n\nYou need to be ap
 proved for the main Boree Log event to attend these trips. Please sign up 
 for only ONE trip per day. If you get rejected you can then sign up for an
 other trip\, this just makes it easier for volunteer trip leaders. Please 
 be aware that as the weather is unpredictable\, trip leaders may need to a
 lter trips accordingly\n\nThis is a relatively short canyon  - it should 
 take roughly 6 hours to complete. This is a beginner canyon and you need N
 O previous experience to join us. There will be plenty of bushwalking\, ro
 ck scrambling\, cold swims\, and fun abseils. There may even be a chance t
 o see some glow worms! If you want to learn what you are up for track note
 s are found here.\n\n&nbsp\;\n\nPlease make you sure bring ALL required ge
 ar. Some gear is available to borrow from the club at camp on the morning 
 of but is limited - if you have any of your own please bring it!\n\nGear a
 vailable to borrow from the club:\n\n 	Harness\n 	Helmet\n 	3x locking car
 abiners\n 	1x Figure 8 / Descender\n 	1x Safety sling\n 	Drybag\n 	Wetsui
 t (5mm preferable)\n\nOther gear you MUST bring:\n\n 	Backpack that can 
 fit ALL your gear and that can get wet (30L+)\n 	Clothing:\n\n 	Enclosed s
 hoes with good grip\, suitable for water and bushwalking\n 	Wool or neopr
 ene socks\n 	Boardshorts to wear on top of wetsuit (compulsory to protec
 t the club wetsuits)\n 	Thermals and raincoat\n 	Swimmers for under wetsui
 t\n 	NO COTTON! (this includes socks\, shirts\, pants\, undies\, etc)\n\n
 \n 	Food:\n\n 	2L of water\n 	Lunch\n 	Snacks to share (with me)\n\n\n 	Ot
 her:\n\n 	Medication (asthma puffer\, Epipen etc)\n 	Headtorch + spare ba
 tteries\n 	Emergency blanket – (can buy from Gear Cupboard for $5 or fro
 m chemists\, shops\, etc)\n\n\n\nTo let me know you have read this far ple
 ase tell me what your outdoor/canyoning experience is (none is OK) and wha
 t your favorite weird fact is.\n\nBonus points if you tell me what your fa
 vourite snack is.\n\nBonus bonus points if you bring said favourite snack 
 to share with me.\n\n&nbsp\;
CATEGORIES:Boree Log,Canyoning
LOCATION:https://g.co/kgs/ufYrkeZ
END:VEVENT
BEGIN:VTIMEZONE
TZID:Australia/Sydney
X-LIC-LOCATION:Australia/Sydney
BEGIN:DAYLIGHT
DTSTART:20241006T030000
TZOFFSETFROM:+1000
TZOFFSETTO:+1100
TZNAME:AEDT
END:DAYLIGHT
END:VTIMEZONE
END:VCALENDAR