BEGIN:VCALENDAR
VERSION:2.0
PRODID:-//wp-events-plugin.com//7.2.3.1//EN
TZID:Australia/Sydney
X-WR-TIMEZONE:Australia/Sydney
BEGIN:VEVENT
UID:3014@unswoc.org
DTSTART;TZID=Australia/Sydney;VALUE=DATE:20220515
DTEND;TZID=Australia/Sydney;VALUE=DATE:20220516
DTSTAMP:20220505T123003Z
URL:https://unswoc.org/wordpress/events/sunday-bl-serendipity-canyon-begin
 ner-intermediate/
SUMMARY:SUNDAY BL - Serendipity - Canyon - Beginner/Intermediate
DESCRIPTION:Serendipity Canyon\n\nJoin Nadav and I on a great little canyon
 /chasm with a series of technical abseils\, beautiful scenery and a great 
 ending swim!\n\nWhat you need to know? Expect a great day canyoning for ar
 ound 8+ hrs round trip\, a cold swim/walk up the river at the end\, and a 
 scramble to exit.\n\nClassed a intermediate canyon\, its a good day! With 
 low temperatures and high rainfall its quite wet - but in Autumn expect co
 ld temperatures.\n\nTrack notes: https://ozultimate.com/canyoning/track_no
 tes/why_dont_we_do_it_in_the_road.htm\n\nEssential gear:\n\n 	Space blanke
 t/emergency blanket (mandatory).\n 	Headlamp (mandatory) w/ batteries\n 	L
 unch/snacks and water (1.5L) for 8 hrs of potential canyoning. Fueling you
 rselves is essential\n 	Spare dry clothes/thermals/jumper/beanie\n 	Dry ba
 g to keep electronics/spare clothes warm.\n 	Appropriate clothing - no cot
 ton - when wet it loses heat fast! Think hiking clothes with boardies/swim
  shorts to protect wetsuit from damage.\n 	Shoes with good grip and suitab
 le for water - trainers with warm socks.\n 	Wet-suit (BYO if you have one\
 , else borrow from Boree Log Gear Pool)\n 	Wet-suit booties/gloves (It wil
 l be cold in Autumn)\n 	Helmet (BYO if you have one\, else borrow from Bor
 ee Log Gear Pool)\n 	Harness (BYO if you have one\, else borrow from Boree
  Log Gear Pool)\n 	Descender/ Figure 8 and Karabiner (BYO if you have one\
 , else borrow from Boree Log Gear Pool)\n 	Safety Sling and Karabiner (BYO
  if you have one\, else borrow from Boree Log Gear Pool)\n 	Small backpack
  to keep your drybag/gear. Expect it to get wet/scratched.\n 	Any medicati
 on/medical devices you need.\n\n&nbsp\;\n\nWe will be walking off from Cat
 hedral of Ferns Camping area down to begin the Canyon. Participants will l
 eave directly from the canyon\, so a balance of Cars/carpooling is essenti
 al to get everyone back to Sydney\n\nSignups open 9am Friday 6th of May. Y
 ou must also be Approved for the main Boree Log Event.\n\nPlease comment a
 ny experience/hype/questions you have in the comment box below. Also comme
 nt your car and the number of seats available.
CATEGORIES:Boree Log,Canyoning
END:VEVENT
BEGIN:VTIMEZONE
TZID:Australia/Sydney
X-LIC-LOCATION:Australia/Sydney
BEGIN:STANDARD
DTSTART:20220403T020000
TZOFFSETFROM:+1100
TZOFFSETTO:+1000
TZNAME:AEST
END:STANDARD
END:VTIMEZONE
END:VCALENDAR