BEGIN:VCALENDAR
VERSION:2.0
PRODID:-//wp-events-plugin.com//7.2.3.1//EN
TZID:Australia/Sydney
X-WR-TIMEZONE:Australia/Sydney
BEGIN:VEVENT
UID:3228@unswoc.org
DTSTART;TZID=Australia/Sydney;VALUE=DATE:20230319
DTEND;TZID=Australia/Sydney;VALUE=DATE:20230320
DTSTAMP:20230311T111049Z
URL:https://unswoc.org/wordpress/events/sunday-bl-serendipity-canyon-begin
 ner-intermediate-3/
SUMMARY:[FULL] SUNDAY BL - Serendipity Canyon (Beginner / Intermediate)
DESCRIPTION:Make sure you read the entire description\, and bring all the r
 equired gear\n\nJoin Zee and I (Cindy) on a great little canyon with a ser
 ies of technical abseils\, beautiful scenery and a great swim!\n\nParticip
 ants will need to be comfortable with abseiling\, cold swims\, and a reaso
 nable walk in and out.\n\nMore info about the canyon here: https://ozultim
 ate.com/canyoning/track_notes/why_dont_we_do_it_in_the_road.htm\n\n&nbsp\;
 \n\n 	Canyoning gear provided at Boree Log event (If you have personal gea
 r it is helpful to bring this along):\n\n 	Harness*\n 	Helmet*\n 	3x locki
 ng carabiner*\n 	1x Figure 8 / Descender*\n 	1x Safety sling*\n 	Drybag*\n
  	Wetsuit*\n\n\n 	Canyoning gear not provided:\n\n 	Emergency blanket (You
  must carry one on every club canyoning trip. You must buy one from the ge
 ar cupboard for $5 cash or most outdoor stores)\n 	Backpack that can fit A
 LL your gear in and that can get wet\n\n\n\n\n 	Clothing:\n\n 	Enclosed sh
 oes with good grip (old sneakers are best!)\n 	Wool / neoprene socks\n 	Bo
 ardshorts to wear on top of wetsuit (compulsory to protect the club wetsui
 ts)\n 	Thermals\n 	Gloves (gardening gloves are ok)\n 	Swimmers\n 	NO COTT
 ON! (this includes socks\, shirts\, pants\, undies\, etc)\n\n\n 	Food:\n\n
  	2L of water.\n 	Lunch\n 	Snacks (chocolate or something nice to share!)\
 n\n\n 	Miscellaneous:\n\n 	Any personal medicine (asthma puffer\, Epipen e
 tc)\n 	A pair of thongs/flipflops to leave in the car (since your shoes wi
 ll get wet) + towel / change of clothes\n 	Phone or camera for photos (opt
 ional\, and only if you’re prepared for it to get wet if your drybag lea
 ks!)\n\n\n\nIf you have any questions\, message Cindy (https://www.faceboo
 k.com/Cindy.li27/) on Facebook. Write down your canyoning / abseiling / ro
 pe skills / outdoor experience in the comment when signing up\, your favou
 rite geological feature (so we know you’ve read this far)\, and whether 
 you have a car (and how many spots).\n\nYou must be approved to the main B
 oree Log event to attend these trips. If you get rejected then you can sig
 n up for another trip\, this just makes it easier for volunteer trip leade
 rs. Please be aware that as the weather is unpredictable\, trip leaders ma
 y need to alter trips accordingly.
CATEGORIES:Canyoning
END:VEVENT
BEGIN:VTIMEZONE
TZID:Australia/Sydney
X-LIC-LOCATION:Australia/Sydney
BEGIN:DAYLIGHT
DTSTART:20221002T030000
TZOFFSETFROM:+1000
TZOFFSETTO:+1100
TZNAME:AEDT
END:DAYLIGHT
END:VTIMEZONE
END:VCALENDAR