BEGIN:VCALENDAR
VERSION:2.0
PRODID:-//wp-events-plugin.com//7.2.3.1//EN
TZID:Australia/Sydney
X-WR-TIMEZONE:Australia/Sydney
BEGIN:VEVENT
UID:3090@unswoc.org
DTSTART;TZID=Australia/Sydney;VALUE=DATE:20221015
DTEND;TZID=Australia/Sydney;VALUE=DATE:20221016
DTSTAMP:20221009T080955Z
URL:https://unswoc.org/wordpress/events/sunday-bl-serendipity-canyon-begin
 ner-intermediate-2/
SUMMARY:SATURDAY BL - Whungee Wheengee (Intermediate/ Advanced) - Canyon
DESCRIPTION:Whungee Wheengee Canyon\n\nJoin Scott and Luke on a canyon/chas
 m with some technical abseils and beautiful scenery!\n\nThis is a more dif
 ficult canyon than the others offered so at this stage please sign up just
  if you have previous canyoning experience and feel nice and confident :)\
 n\nWhat you need to know? Expect a great day canyoning for around 8+ hrs r
 ound trip\, a walk up the river at the end\, and a scramble to exit.\n\nIt
 's gonna be a tough but super fun day! Expect cold temperatures\, wetsuits
  are a must.\n\nTrack notes: https://ozultimate.com/canyoning/track_notes/
 whungee_wheengee.htm\n\nEssential gear:\n\n 	Space blanket/emergency blank
 et (mandatory).\n 	Headlamp (mandatory) w/ batteries\n 	Lunch/snacks and w
 ater (1.5L) for 8 hrs of potential canyoning. Fueling yourselves is essent
 ial\n 	Spare dry clothes/thermals/jumper/beanie\n 	Dry bag to keep electro
 nics/spare clothes warm.\n 	Appropriate clothing - no cotton - when wet it
  loses heat fast! Think hiking clothes with boardies/swim shorts to protec
 t wetsuit from damage.\n 	Shoes with good grip and suitable for water - tr
 ainers with warm socks.\n 	Wet-suit (BYO if you have one\, else borrow fro
 m Boree Log Gear Pool)\n 	Wet-suit booties/gloves (It will be cold in Autu
 mn)\n 	Helmet (BYO if you have one\, else borrow from Boree Log Gear Pool)
 \n 	Harness (BYO if you have one\, else borrow from Boree Log Gear Pool)\n
  	Descender/ Figure 8 and Karabiner (BYO if you have one\, else borrow fro
 m Boree Log Gear Pool)\n 	Safety Sling and Karabiner (BYO if you have one\
 , else borrow from Boree Log Gear Pool)\n 	Small backpack to keep your dry
 bag/gear. Expect it to get wet/scratched.\n 	Any medication/medical device
 s you need.\n\n&nbsp\;\n\nSignups open 7am Monday 12th October. You must a
 lso be Approved for the main Boree Log Event.\n\nPlease comment any experi
 ence/hype/questions you have in the comment box below (Make sure to say so
 mething!). Also comment your car and the number of seats available. aaaaaa
 and what's your favourite descending device?
CATEGORIES:Boree Log,Canyoning
END:VEVENT
BEGIN:VTIMEZONE
TZID:Australia/Sydney
X-LIC-LOCATION:Australia/Sydney
BEGIN:DAYLIGHT
DTSTART:20221002T030000
TZOFFSETFROM:+1000
TZOFFSETTO:+1100
TZNAME:AEDT
END:DAYLIGHT
END:VTIMEZONE
END:VCALENDAR