BEGIN:VCALENDAR
VERSION:2.0
PRODID:-//wp-events-plugin.com//7.2.3.1//EN
TZID:Australia/Sydney
X-WR-TIMEZONE:Australia/Sydney
BEGIN:VEVENT
UID:3101@unswoc.org
DTSTART;TZID=Australia/Sydney;VALUE=DATE:20221016
DTEND;TZID=Australia/Sydney;VALUE=DATE:20221017
DTSTAMP:20221009T082034Z
URL:https://unswoc.org/wordpress/events/sunday-bl-serendipity-beginner-int
 ermediate-canyon/
SUMMARY:SUNDAY BL - Serendipity (Beginner/Intermediate) - Canyon
DESCRIPTION:Serendipity canyon\n\nJoin Cindy and I (Oliver) on a great litt
 le canyon/chasm with a series of technical abseils\, beautiful scenery and
  a great ending swim!\n\n&nbsp\;\n\nWhat you need to know? Expect a great 
 day canyoning for around 8+ hrs round trip\, a walk up the river at the en
 d\, and a scramble to exit.\n\nIt's gonna be a fun day! Expect cold temper
 atures\, wetsuits are a must.\n\nTrack notes: https://ozultimate.com/canyo
 ning/track_notes/why_dont_we_do_it_in_the_road.htm\n\nEssential gear:\n\n 
 	Space blanket/emergency blanket (mandatory).\n 	Headlamp (mandatory) w/ b
 atteries\n 	Lunch/snacks and water (1.5L) for 8 hrs of potential canyoning
 . Fueling yourselves is essential\n 	Spare dry clothes/thermals/jumper/bea
 nie\n 	Dry bag to keep electronics/spare clothes warm.\n 	Appropriate clot
 hing - no cotton - when wet it loses heat fast! Think hiking clothes with 
 boardies/swim shorts to protect wetsuit from damage.\n 	Shoes with good gr
 ip and suitable for water - trainers with warm socks.\n 	Wet-suit (BYO if 
 you have one\, else borrow from Boree Log Gear Pool)\n 	Wet-suit booties/g
 loves (It will be cold in Autumn)\n 	Helmet (BYO if you have one\, else bo
 rrow from Boree Log Gear Pool)\n 	Harness (BYO if you have one\, else borr
 ow from Boree Log Gear Pool)\n 	Descender/ Figure 8 and Karabiner (BYO if 
 you have one\, else borrow from Boree Log Gear Pool)\n 	Safety Sling and K
 arabiner (BYO if you have one\, else borrow from Boree Log Gear Pool)\n 	S
 mall backpack to keep your drybag/gear. Expect it to get wet/scratched.\n 
 	Any medication/medical devices you need.\n\n&nbsp\;\n\nWe will be walking
  off from Cathedral of Ferns Camping area down to begin the Canyon. Partic
 ipants will leave directly from the canyon\, so a balance of Cars/carpooli
 ng is essential to get everyone back to Sydney\n\nSignups open 9am Monday 
 10th October. You must also be Approved for the main Boree Log Event.\n\nP
 lease comment any experience/hype/questions you have in the comment box be
 low (Make sure to say something!). Also comment your car and the number of
  seats available.
CATEGORIES:Boree Log,Canyoning
END:VEVENT
BEGIN:VTIMEZONE
TZID:Australia/Sydney
X-LIC-LOCATION:Australia/Sydney
BEGIN:DAYLIGHT
DTSTART:20221002T030000
TZOFFSETFROM:+1000
TZOFFSETTO:+1100
TZNAME:AEDT
END:DAYLIGHT
END:VTIMEZONE
END:VCALENDAR