BEGIN:VCALENDAR
VERSION:2.0
PRODID:-//wp-events-plugin.com//7.2.3.1//EN
TZID:Australia/Sydney
X-WR-TIMEZONE:Australia/Sydney
BEGIN:VEVENT
UID:3541@unswoc.org
DTSTART;TZID=Australia/Sydney;VALUE=DATE:20250323
DTEND;TZID=Australia/Sydney;VALUE=DATE:20250324
DTSTAMP:20250320T020841Z
URL:https://unswoc.org/wordpress/events/sunday-bl-reservoir-dogs-intermedi
 ate-sport-climbing/
SUMMARY:SUNDAY BL - RESERVOIR DOGS Intermediate Sport Climbing
DESCRIPTION:*Boree log SUNDAY Reservoir Dogs Intermediate Sport Climbing*\n
 \nMyslef (Gabriel)\, Marley and Amelia V will be running will be running a
 n Intermediate sport climbing trip to Reservoir Dogs\, in Medlow Bath.\n\n
 This trip is aimed for people who have are compitant in lead climbing\, wi
 th the possibility of learning Multi Pitch Climbing (MAYBE). The aim of th
 e day is to further develope lead climbing skills\, look at advanced lead 
 belaying techniques\, how to safely take a lead fall\, and general lead cl
 imbing projecting tips and tricks.\n\nRemember to answer the hidden questi
 on in your comment!\n\nNote:\n\n“You need to be approved for the main Bo
 ree Log event to attend these trips. Please sign up for only ONE trip per 
 day. If you get rejected you can then sign up for another trip\, this just
  makes it easier for volunteer trip leaders. Please be aware that as the w
 eather is unpredictable\, trip leaders may need to alter trips accordingly
 ”\n\n&nbsp\;\n\nDetails for the trip\n\n 	Location\n\n 	33°40'18.5"S 15
 0°16'42.3"E (Medlow Bath)\n\n\n 	Time\n\n 	TBC (after group packup and ca
 mpsite is clean)\n\n\n 	Wet Weather Plan\n\n 	TBC\n\n\n 	Difficultuy\n\n 	
 The starting grade is 18. If you cannot climb atleast a 17 outdoors\, purh
 aps think of joining another trip. As this is a repel in crag\, the only w
 ay out is to climb out. (or be hauled\, which is less than ideal)\n\n\n\n&
 nbsp\;\n\nWhat to bring / What you need - (****) means must have!\n\n 	Har
 ness ***\n 	Atc + locking beiner (or Gri Gri and Lo. beiner) ****\n 	Helme
 t ****\n 	Sling + locking beiner (personal saftey) ****\n 	Prusic (optiona
 l but recomended)\n 	Climbing shoes (COMFORTABLE)\n 	Atleast 2L of water *
 ***\n 	A backpack (with lunch\, snacks and personal items) ****\n 	Appropr
 iate Clothing (MUST BRING A HAT\, the crag can be very sunny) *****\n 	YOU
 R HAPPY FACE\, AND BRAVE MINDSET!\n\nThis group gear can be organised on t
 he day\, but if you have personal gear\, (eg rope\, quickdrawers etc..) it
  is highly encoraged that you use that\, as gear can be scarse on the day.
 \n\n&nbsp\;\n\nImportant information!\n\nIn the comments below\, please le
 t me know your climbing experience\, (I wont judge I prommise)\, if youll 
 have a car\, how many spaces it has\, and what your opinoin is on climbing
  holds that look like jugs\, but are sloapers...\n\nSuper keen to see you 
 all there! Bring your best "send" attatude!\n\n-Gabriel\, Marley and Ameli
 a V\n\np.p.s please ignore the spelling errors.
CATEGORIES:Boree Log,Outdoor Climbing
LOCATION:https://www.google.com/maps/place/33%C2%B040'18.5%22S+150%C2%B016'
 42.3%22E/@-33.6718558,150.2784971,630m/data=!3m1!1e3!4m13!1m8!3m7!1s0x6b12
 6e75716623ab:0x5017d681632d550!2sMedlow+Bath+NSW+2780!3b1!8m2!3d-33.672345
 8!4d150.2802141!16zL20vMDRwMjBt!3m3!8m2!3d-33.671805!4d150.278408?entry=tt
 u&g_ep=EgoyMDI1MDIyNi4xIKXMDSoJLDEwMjExNDUzSAFQAw%3D%3D
END:VEVENT
BEGIN:VTIMEZONE
TZID:Australia/Sydney
X-LIC-LOCATION:Australia/Sydney
BEGIN:DAYLIGHT
DTSTART:20241006T030000
TZOFFSETFROM:+1000
TZOFFSETTO:+1100
TZNAME:AEDT
END:DAYLIGHT
END:VTIMEZONE
END:VCALENDAR