BEGIN:VCALENDAR
VERSION:2.0
PRODID:-//wp-events-plugin.com//7.2.3.1//EN
TZID:Australia/Sydney
X-WR-TIMEZONE:Australia/Sydney
BEGIN:VEVENT
UID:3674@unswoc.org
DTSTART;TZID=Australia/Sydney:20251019T080000
DTEND;TZID=Australia/Sydney:20251019T150000
DTSTAMP:20251019T010738Z
URL:https://unswoc.org/wordpress/events/sunday-bl-porters-pass-hike-walk/
SUMMARY:SUNDAY BL - PORTERS PASS Hike
DESCRIPTION:You need to be approved for the main Boree Log event to attend 
 these trips. Please sign up for only ONE trip per day. If you get rejected
  you can then sign up for another trip\, this just makes it easier for vol
 unteer trip leaders. Please be aware that as the weather is unpredictable\
 , trip leaders may need to alter trips accordingly.\n\n&nbsp\;\n\nClayton 
 I (Rory) and if circumstances permit\, my dog Loki\, will be leading a be
 ginner-friendly hike through the Porters Pass and Colliers Causeway track 
 in Blackheath.\n\nIt is possibly my favourite day hike in the Blue Mountai
 ns\, featuring waterfalls\, a micro-canyon\, an optional swim\, rainforest
 s\, dry heath\, clifftop\, and cliffside paths!!!\n\nIt has a total leng
 th of about 7km and elevation gain of 400m\, and I expect it to take about
  5 hours.\n\nThis trail will require good fitness as there are steep secti
 ons\, however we will not be in a rush. For most this will be a laid back 
 hike\, with plenty of time for hanging out and recreation.\n\nCheck out th
 e track here – https://hikingtheworld.blog/2023/05/14/ar-porters-pass-c
 olliers-causeway\n\n&nbsp\;\n\nWhat to bring:\n\n 	Sturdy shoes!\n\n 	This
  is not your average tourist track and there are a few less maintained sec
 tions so hiking boots would be great.\n\n\n 	Small-medium sized backpack t
 o hold your belongings\n 	At least 2L of water **super important to have e
 nough water!!**\n 	Lunch and snacks for the day\n 	Sun protection: sunscre
 en + hat\n 	Change of clothes / swimmers / towel (if you wish to swim)\n 	
 Any personal medication you may need\n\nSo\, if you are keen for a hike\, 
 please tell us your hiking experience so far\, if you could be an animal
  for a day what you would choose (just so we know you’ve read all this 
 information) and whether you have a car in your comment below… and get 
 in early before signups are full. Also\, let me know in the comments\, If 
 you had to eat 5 kgs of a human body\, what part of it would you eat?\n\nH
 ere's a photo of Loki snuggled up in a blanket by the fire for your perusa
 l\;
CATEGORIES:Boree Log,Hectic Hiking
LOCATION:https://maps.app.goo.gl/aQHYWpG8hZ7d51Jw6
END:VEVENT
BEGIN:VTIMEZONE
TZID:Australia/Sydney
X-LIC-LOCATION:Australia/Sydney
BEGIN:DAYLIGHT
DTSTART:20251005T030000
TZOFFSETFROM:+1000
TZOFFSETTO:+1100
TZNAME:AEDT
END:DAYLIGHT
END:VTIMEZONE
END:VCALENDAR