BEGIN:VCALENDAR
VERSION:2.0
PRODID:-//wp-events-plugin.com//7.2.3.1//EN
TZID:Australia/Sydney
X-WR-TIMEZONE:Australia/Sydney
BEGIN:VEVENT
UID:3230@unswoc.org
DTSTART;TZID=Australia/Sydney;VALUE=DATE:20230319
DTEND;TZID=Australia/Sydney;VALUE=DATE:20230320
DTSTAMP:20230313T000726Z
URL:https://unswoc.org/wordpress/events/sunday-bl-multipitch-intermediate/
SUMMARY:[FULL] SUNDAY BL - Multipitch (Intermediate)
DESCRIPTION:Sick of climbing up and then coming straight back down?\nFeel l
 ike you're not going anywhere when you're climbing (a bit like a hamster o
 n a wheel)?\nEver felt limited by your rope length?\nEver trekked all the 
 way to a crag and realised the view wasn't as good as it should have been?
 \n\nWell my good friend\, let me introduce you to the beautiful world of M
 ultipitching! Sunday of Boree we'll be taking a small group of people (4) 
 to Reservoir Dogs and showing you the ropes \;) along with important rescu
 e techniques.\n\n\n\nWe will NOT be teaching anyone how to LEAD climb\, if
  you want to come on this trip it is a prerequisite that you already know 
 how to lead climb and belay (and be competent with it). In the comments te
 ll me your climbing experience\, if you have a car\, and tell me what do y
 ou have to do to make your life complete? I love making you answer hard qu
 estions hehe\n\n&nbsp\;\n\nI'll be covering:\n\n 	Safety.\n 	Belay buildin
 g.\n 	Communication.\n 	Rope Management.\n 	Route Selection and Preparatio
 n.\n\nWhat YOU will need to bring\n\n 	Food.\n 	Snacks\n 	2L water (minimu
 m)\n 	climbing shoes\n 	Approach shoes\n 	chalkbag\n 	Headtorch + spare ba
 tteries (Get in the habit of ALWAYS taking one on your multis)\n 	Raincoat
  (Again its not super necessary but definitely get in the habit of packing
  one for your multis even if the weather is good)\n 	A whistle is handy if
  you have one\n\nWhat you definitely should bring if you own (But i can ge
 t for you if you need):\n\n 	Belay device. preferred is ATC-Guide or Grigr
 i\n 	Harness\n 	Helmet\n 	Draws. Bring what you have.\n 	bolt plates\n 	Lo
 cking carabiners. 6 is a good number. Some free non-locking carabiners are
  good too.\n 	Slings. One or two double-length (120cm) slings for anchors 
 are great. (or 5m cordelette)\n 	Prussiks. Minimum 1 short and 1 long\n\nW
 hat we need to get as a group (remind me on Sunday \;) )\n\n 	50m static r
 ope\n 	a rope between 2 people\n
CATEGORIES:Abseiling,Boree Log,Climbing,Outdoor Climbing
END:VEVENT
BEGIN:VTIMEZONE
TZID:Australia/Sydney
X-LIC-LOCATION:Australia/Sydney
BEGIN:DAYLIGHT
DTSTART:20221002T030000
TZOFFSETFROM:+1000
TZOFFSETTO:+1100
TZNAME:AEDT
END:DAYLIGHT
END:VTIMEZONE
END:VCALENDAR