BEGIN:VCALENDAR
VERSION:2.0
PRODID:-//wp-events-plugin.com//7.2.3.1//EN
TZID:Australia/Sydney
X-WR-TIMEZONE:Australia/Sydney
BEGIN:VEVENT
UID:3102@unswoc.org
DTSTART;TZID=Australia/Sydney;VALUE=DATE:20221016
DTEND;TZID=Australia/Sydney;VALUE=DATE:20221017
DTSTAMP:20221009T082052Z
URL:https://unswoc.org/wordpress/events/sunday-bl-multipitch-climbing/
SUMMARY:SUNDAY BL – Multipitch Climbing
DESCRIPTION:You need to be approved for the main Boree Log event to attend 
 these trips. Please signup for only ONE trip per day. If you get rejected
  you can then sign up for another trip\, this justmakes it easier for volu
 nteer trip leaders.\n\nOn the SUNDAY of Boree Log myself (Maria) and Scott
  will be leading a multipitch climbing trip provided the weather is fair e
 nough for multipitching (if it's not\, we can always go cragging). Multipi
 tching is heaps fun and not many things are more beautiful than being in t
 he middle of a stunning wall!\n\nWhat you need to know to join this trip i
 s:\n\n1) how to lead belay well (this means belaying someone who is leadin
 g\, not top roping)\n\n2) what multi pitching means (it's okay if you have
  never done it before\, we are happy to teach)\n\n3) ideally\, can climb g
 rade 18 outdoors (but if you can't\, write your grades below and we may fi
 gure something out)\n\nWe will meet up at 9:00am on Sunday morning at the 
 Boree Log campground near the trailer. Any gear that you require will be c
 ollected together on Sunday morning from the trailer.\n\n 	Gear: harness\,
  helmet\, climbing shoes\, ATC/Grigri\, safety sling\, biners\n 	What to b
 ring: sunscreen\, 2L water (minimum!)\, food for the day\, sporty clothes\
 , a warm jacket\, a day backpack to fit all your stuff inside\, comfortabl
 e shoes to hike in\, snacks to share\, etc).\n\nIn the comments box\, plea
 se tell us about your previous climbing experience\, including what grades
  you climb in second and lead 🙂\n\nAny questions msg me on Fb (Maria LC
 ). Looking forward to it!
ATTACH;FMTTYPE=image/jpeg:https://unswoc.org/wordpress/wp-content/uploads/
 2022/09/IMG20220828142430-1-scaled.jpg
CATEGORIES:Climbing
END:VEVENT
BEGIN:VTIMEZONE
TZID:Australia/Sydney
X-LIC-LOCATION:Australia/Sydney
BEGIN:DAYLIGHT
DTSTART:20221002T030000
TZOFFSETFROM:+1000
TZOFFSETTO:+1100
TZNAME:AEDT
END:DAYLIGHT
END:VTIMEZONE
END:VCALENDAR