BEGIN:VCALENDAR
VERSION:2.0
PRODID:-//wp-events-plugin.com//7.2.3.1//EN
TZID:Australia/Sydney
X-WR-TIMEZONE:Australia/Sydney
BEGIN:VEVENT
UID:3493@unswoc.org
DTSTART;TZID=Australia/Sydney:20241013T000000
DTEND;TZID=Australia/Sydney:20241013T000000
DTSTAMP:20241008T025732Z
URL:https://unswoc.org/wordpress/events/sunday-bl-mt-piddington-trad-climb
 ing-beginner-intermediate/
SUMMARY:[FULL] SUNDAY BL - Mt Piddington Trad Climbing (Beginner-Intermedia
 te)
DESCRIPTION:You need to be approved for the main Boree Log event to attend 
 these trips. Please sign up for only ONE trip per day. If you get rejected
  you can then sign up for another trip\, this just makes it easier for vol
 unteer trip leaders. Please be aware that as the weather is unpredictable\
 , trip leaders may need to alter trips accordingly\n\n&nbsp\;\n\nHey every
 one!\n\n&nbsp\;\n\nKeith and I (Pat) will be leading a trad climbing trip 
 to Mt Piddington on Boree Log Sunday. The crag page can be found here if y
 ou want to look for anything you're keen for.\n\nThis is a beginner-friend
 ly trip\, so you don't need to have any climbing experience to join. If yo
 u're keen to dip your toes into trad climbing\, we're happy to teach trad 
 skills like gear placements so you can try placing gear on toprope or lead
 .\n\nYou'll need to have this gear:\n\n 	Harness *\n 	Helmet *\n 	Climbing
  shoes *\n 	ATC (or other belay device) + locking carabiner *\n 	At least 
 2L water\n 	Sunscreen\n 	Lunch\n 	Snacks\n 	Warm layers\n 	Suitable backpa
 ck and shoes for hiking in and out\n\n* This gear will be available from t
 he gear trailer on Sunday morning of Boree Log\n\nIf you're keen to join\,
  leave a comment with your climbing experience\, whether you'll have acces
 s to a car and your favourite bird so we know you've read this whole descr
 iption. We'll be heading straight back to Sydney afterwards\, so if you're
  driving let us know how many seats you'll have in total and whereabouts y
 ou'll be returning to.\n\nIf you've got any questions\, concerns\, comment
 s\, feel free to message Keith or I on facebook.\n\n&nbsp\;\n\nGet keen!!\
 n\nPat
CATEGORIES:Boree Log,Outdoor Climbing
LOCATION:https://maps.app.goo.gl/Ww9rYrM34T9QbXgQ7
END:VEVENT
BEGIN:VTIMEZONE
TZID:Australia/Sydney
X-LIC-LOCATION:Australia/Sydney
BEGIN:DAYLIGHT
DTSTART:20241006T030000
TZOFFSETFROM:+1000
TZOFFSETTO:+1100
TZNAME:AEDT
END:DAYLIGHT
END:VTIMEZONE
END:VCALENDAR