BEGIN:VCALENDAR
VERSION:2.0
PRODID:-//wp-events-plugin.com//7.2.3.1//EN
TZID:Australia/Sydney
X-WR-TIMEZONE:Australia/Sydney
BEGIN:VEVENT
UID:3401@unswoc.org
DTSTART;TZID=Australia/Sydney;VALUE=DATE:20240317
DTEND;TZID=Australia/Sydney;VALUE=DATE:20240318
DTSTAMP:20240304T212104Z
URL:https://unswoc.org/wordpress/events/sunday-bl-mount-piddington-trad-cl
 imbing/
SUMMARY:SUNDAY BL - MOUNT PIDDINGTON Beginner Trad climbing
DESCRIPTION:Hey everyone\,\n\nPat\, Gabe and I (Amelia K) will be leading a
  trad climbing trip to Piddo\, in the blue mountains. This is a beginner f
 riendly crag (see the crag page here)\, great if you are learning traditio
 nal climbing (placing your own protection into the wall instead of bolts) 
 for the first time\, or you're an experienced climber keen to hang out at 
 this awesome crag with awesome people :)\n\nWe will leave early on Sunday 
 morning from Cathedral of Ferns campground and drive straight back to Sydn
 ey in the evening\, so please let us know if you have a car and where you 
 will be driving to afterwards.\n\n[caption id="attachment_16354" align="al
 ignnone" width="225"] Pat with some shiny trad gear[/caption]\n\nWe can su
 pply all technical gear (if you don't have your own) such as helmets\, har
 nesses\, climbing shoes and belay devices etc. on the day\, however YOU ne
 ed to bring:\n\n 	At least 2L water\n 	Food + snacks for the day\n 	Sunscr
 een\n 	Jumper/jacket (Blue mountains can get very cold)\n 	Comfy shoes\, h
 at\, backpack etc for short hike in\n 	Chalk (optional)\n\n&nbsp\;\n\nPlea
 se note: You need to be approved for the main Boree Log event to attend th
 ese trips. Please sign up for only ONE trip per day. If you get rejected y
 ou can then sign up for another trip\, this just makes it easier for volun
 teer trip leaders.\n\nPlease be aware that as the weather is unpredictable
 \, we may need to alter the trip accordingly.\n\n&nbsp\;\n\nIf you're keen
  to sign up\, please include in your comment your experience\, what you wa
 nt out of the day\, whether you have a car and where you'll be heading on 
 Sunday evening\, and tell us your favourite place to climb :) (just so we 
 know you've read all this info).\n\nFeel free to message Pat or I if you h
 ave any questions.\n\n&nbsp\;\n\nMany thanks\,\n\nAmelia K\n\n&nbsp\;
CATEGORIES:Outdoor Climbing
LOCATION:https://www.google.com/maps/place/Mount+Piddington/@-33.5996971,15
 0.2474051,15z/data=!3m1!4b1!4m6!3m5!1s0x6b127302244ff1d1:0xdf72b655192b6ce
 b!8m2!3d-33.5997159!4d150.2577048!16s%2Fm%2F02z1w_n?entry=ttu
END:VEVENT
BEGIN:VTIMEZONE
TZID:Australia/Sydney
X-LIC-LOCATION:Australia/Sydney
BEGIN:DAYLIGHT
DTSTART:20231001T030000
TZOFFSETFROM:+1000
TZOFFSETTO:+1100
TZNAME:AEDT
END:DAYLIGHT
END:VTIMEZONE
END:VCALENDAR