BEGIN:VCALENDAR
VERSION:2.0
PRODID:-//wp-events-plugin.com//7.2.3.1//EN
TZID:Australia/Sydney
X-WR-TIMEZONE:Australia/Sydney
BEGIN:VEVENT
UID:3095@unswoc.org
DTSTART;TZID=Australia/Sydney;VALUE=DATE:20221016
DTEND;TZID=Australia/Sydney;VALUE=DATE:20221017
DTSTAMP:20221008T050415Z
URL:https://unswoc.org/wordpress/events/sunday-bl-mount-boyce-trad-climbin
 g/
SUMMARY:SUNDAY BL - MOUNT BOYCE Trad Climbing
DESCRIPTION:You need to be approved for the main Boree Log event to attend 
 these trips. Please signup for only ONE trip per day. If you get rejected 
 you can then sign up for another trip\, this justmakes it easier for volun
 teer trip leaders.\n\nOn the SUNDAY of Boree Log myself (Jenny) and Mira w
 ill be leading a climbing trip to Mt. Boyce. We plan to mainly set up trad
  climbing routes For anyone new to outdoor climbing\, trad climbing involv
 es placing your own gear in the rock for protection\, so there are no perm
 anent fixed bolts in the rock.\n\nNo climbing experience is required as we
 'll set up the climbs for you to second or top rope. We are happy to teach
  you the fundamentals of trad climbing. We will bring along trad racks\, r
 opes and other club gear but bring your own if you have any.\n\nWe will me
 et up at 8:00am on Sunday morning at the Boree Log campground near the tra
 iler. Any gear that you require will be collected together on Sunday morni
 ng from the trailer.\n\n 	Gear: harness\, helmet\, climbing shoes\, ATC + 
 carabiner (if you have your own make sure you bring it!!!)\, climbing tape
  or crack gloves to protect your hands (not essential).\n 	What to bring: 
 sunscreen\, 2L water (minimum!)\, food for the day\, sporty clothes\, a wa
 rm jacket\, a day backpack to fit all your stuff inside\, comfortable shoe
 s to hike in\, snacks to share\, etc.\n 	Meeting point: 8:00am at Boree L
 og Trailer (Cathedral of Ferns Campground\, Mt Wilson).\n\n&nbsp\;\n\nIn t
 he comments box\, please tell us about your previous climbing experience\,
  whether you will be driving your own car to Boree Log and your favourite 
 type of weather to be considered for this trip :)\n\nPlease be aware that 
 as the weather is unpredictable and trip leaders may need to alter trips a
 ccordingly.\n\nLooking forward to it!!\n\n\n\n&nbsp\;
CATEGORIES:Boree Log,Outdoor Climbing
END:VEVENT
BEGIN:VTIMEZONE
TZID:Australia/Sydney
X-LIC-LOCATION:Australia/Sydney
BEGIN:DAYLIGHT
DTSTART:20221002T030000
TZOFFSETFROM:+1000
TZOFFSETTO:+1100
TZNAME:AEDT
END:DAYLIGHT
END:VTIMEZONE
END:VCALENDAR