BEGIN:VCALENDAR
VERSION:2.0
PRODID:-//wp-events-plugin.com//7.2.3.1//EN
TZID:Australia/Sydney
X-WR-TIMEZONE:Australia/Sydney
BEGIN:VEVENT
UID:3550@unswoc.org
DTSTART;TZID=Australia/Sydney;VALUE=DATE:20250323
DTEND;TZID=Australia/Sydney;VALUE=DATE:20250324
DTSTAMP:20250320T020712Z
URL:https://unswoc.org/wordpress/events/sunday-bl-mezzaluna-beginner-sport
 -climbing/
SUMMARY:SUNDAY BL - MEZZALUNA Beginner Sport Climbing
DESCRIPTION:Hey everyone\,\n\nElliott\, Nic\, and I are running a beginner 
 sport climbing trip to Mezzaluna. This crag is one of my favourites as the
  views are spectacular and the routes are fun. You can even hear cows mooi
 ng in the distance! The grades on Mezzaluna range from 15 to 20.\n\n\n\n&n
 bsp\;\n\nWe will drive from the campground to the crag\, where we will set
  up top ropes for everyone to climb. No climbing experience is needed. If
  you are a confident lead climber/belayer\, you’re also very welcome! We
  are also happy to teach people to lead if anyone is super keen. We will d
 rive straight back to Sydney afterwards.\n\nWe’ll be heading directly fr
 om camp in the morning\, so most of the gear you need will be provided –
  you don’t need to hire anything from the gear cupboard beforehand. If y
 ou have your own gear\, please bring it with you! For this trip\, you’ll
  need:\n\nMandatory:\n\n 	Climbing gear: \n\n 	*Harness\n 	*Helmet\n 	*Lo
 cking carabiner attached to an ATC\n\n\n\n\n 	For clothing:\n\n 	Sport clo
 thes. It can get quite hot or quite chilly\, so be prepared for both.\n\n\
 n\n\n 	For eating: \n\n 	At least 2L of water\n 	Lunch\n 	Snacks\n\n\n\n\
 n 	Other:\n\n 	Sunscreen\n 	Medications (asthma puffer etc.)\n\n\n\nOption
 al:\n\n 	Chalk\n 	*Climbing shoes (Highly recommended! - the club only has
  a few to go around to borrow on the day)\n\n(* means the club will provid
 e this on the day)\n\nPlease mention in the comments:\n\n 	Your climbing e
 xperience\n 	If you can drive\n 	Your level of stoke (only cool kids are a
 llowed)\n 	How many chocolates you will share with me\n\nYou need to be ap
 proved for the main Boree Log event to attend these trips. Please sign up 
 for only ONE trip per day. If you get rejected you can then sign up for an
 other trip\, this just makes it easier for volunteer trip leaders. Please 
 be aware that as the weather is unpredictable\, trip leaders may need to a
 lter trips accordingly.\n\nGet keen!
CATEGORIES:Boree Log,Climbing
LOCATION:https://www.google.com/maps/place/Mezzaluna+Crag/@-33.5544207,150.
 2180272,726m/data=!3m1!1e3!4m14!1m7!3m6!1s0x6b1273c14b80772d:0xf7acf74c0af
 f3ec7!2sMezzaluna+Crag!8m2!3d-33.5544207!4d150.2180272!16s%2Fg%2F11kpdcqw7
 d!3m5!1s0x6b1273c14b80772d:0xf7acf74c0aff3ec7!8m2!3d-33.5544207!4d150.2180
 272!16s%2Fg%2F11kpdcqw7d?entry=ttu&g_ep=EgoyMDI1MDIyNi4xIKXMDSoJLDEwMjExND
 U1SAFQAw%3D%3D
END:VEVENT
BEGIN:VTIMEZONE
TZID:Australia/Sydney
X-LIC-LOCATION:Australia/Sydney
BEGIN:DAYLIGHT
DTSTART:20241006T030000
TZOFFSETFROM:+1000
TZOFFSETTO:+1100
TZNAME:AEDT
END:DAYLIGHT
END:VTIMEZONE
END:VCALENDAR