BEGIN:VCALENDAR
VERSION:2.0
PRODID:-//wp-events-plugin.com//7.2.3.1//EN
TZID:Australia/Sydney
X-WR-TIMEZONE:Australia/Sydney
BEGIN:VEVENT
UID:3482@unswoc.org
DTSTART;TZID=Australia/Sydney;VALUE=DATE:20241013
DTEND;TZID=Australia/Sydney;VALUE=DATE:20241014
DTSTAMP:20240930T125415Z
URL:https://unswoc.org/wordpress/events/sunday-bl-medlow-bath-sport-climbi
 ng-not-done/
SUMMARY:[FULL] SUNDAY BL - MEDLOW BATH Sport Climbing
DESCRIPTION:Hey everyone\,\n\nJoin Caity D\, Sophia and I on a beginner fri
 endly sport climbing trip to Medlow Bath on our way back to Sydney on Sund
 ay. You can check out the crag page here.\n\nThere are climbs to suit a ra
 nge of abilities here\, and we will happily set up top ropes for anyone ne
 w to the sport and wanting to try it out. Anyone wanting to learn some mor
 e specific skills are also more than welcome to join and we will teach :))
 \n\nWhat you need to bring:\n\n 	2L water\n 	Food/snacks for the day\n 	Su
 nscreen/hat\n 	Warm clothes!\n 	Chalk (optional)\n 	Bag to fit everything\
 , including some of the shared gear we will bring\n\nBring the following i
 tems if you have them\, if not we can provide...\n\n 	Harness\n 	Helmet\n 
 	Belay device (eg ATC)\n 	Locking carabiner\n 	Climbing shoes\n\nYou need 
 to be approved for the main Boree Log event to attend these trips. Please 
 sign up for only ONE trip per day. If you get rejected you can then sign u
 p for another trip\, this just makes it easier for volunteer trip leaders.
  Please be aware that as the weather is unpredictable\, trip leaders may n
 eed to alter trips accordingly.\n\nIn your comment below\, if you have a c
 ar please tell us where you will be driving back to on Sunday arvo/evening
  (we need to make sure all our participants can get home)\, also your clim
 bing experience\, and what your 5-year-old-self wanted to be when you grew
  up (just so we know you've read all this information).\n\nCheers\, Amelia
CATEGORIES:Outdoor Climbing
LOCATION:https://www.google.com/maps/place/Belgravia+St,+Medlow+Bath+NSW+27
 80/@-33.6717162,150.2780871,363m/data=!3m2!1e3!4b1!4m6!3m5!1s0x6b126dbf0ce
 490c3:0x13017d67e56e96c1!8m2!3d-33.6717178!4d150.2789975!16s%2Fg%2F11c63k2
 n02?entry=ttu&g_ep=EgoyMDI0MDkxOC4xIKXMDSoASAFQAw%3D%3D
END:VEVENT
BEGIN:VTIMEZONE
TZID:Australia/Sydney
X-LIC-LOCATION:Australia/Sydney
BEGIN:DAYLIGHT
DTSTART:20241006T030000
TZOFFSETFROM:+1000
TZOFFSETTO:+1100
TZNAME:AEDT
END:DAYLIGHT
END:VTIMEZONE
END:VCALENDAR