BEGIN:VCALENDAR
VERSION:2.0
PRODID:-//wp-events-plugin.com//7.2.3.1//EN
TZID:Australia/Sydney
X-WR-TIMEZONE:Australia/Sydney
BEGIN:VEVENT
UID:3684@unswoc.org
DTSTART;TZID=Australia/Sydney:20251019T000000
DTEND;TZID=Australia/Sydney:20251019T000000
DTSTAMP:20251015T045231Z
URL:https://unswoc.org/wordpress/events/sunday-bl-medlow-bath-climbing/
SUMMARY:[FULL] SUNDAY BL - Bardens Beginner Sport Climbing
DESCRIPTION:Raine and I (Maddi) will lead be leading a hectic climbing trip
  on Sunday. Trip is very beginner friendly – we’re headed to Bardens (
 Historic Wells and Little Triggers) for some chill sport climbing.\nWe’l
 l meet at the Boree Log campground Sunday morning and head down together t
 o Mt York. (Previously we were going to Medlow Bath)\n\nTell me your exper
 ience (and whether you have a car + spots) in the comments\, as well as yo
 ur favourite type of rock.\n\n\nYou will need:\n\n*Helmet\n*Harness\n*Bela
 y device + Locking Carabiner\n*Climbing Shoes\nFood + water (at least 2L!!
 )\nBackpack to carry the above\nwarm clothing (potentially – check the w
 eather!)\npetrol money for your driver\ngood vibes\n*These items can be bo
 rrowed the morning of Boree Log\, but it may run out so BYO if you have it
  to avoid disappointment.\n\nYou must be approved to the main Boree Log ev
 ent to attend these trips. If you get rejected then you can sign up for an
 other trip\, this just makes it easier for volunteer trip leaders. Please 
 be aware that as the weather is unpredictable\, trip leaders may need to a
 lter trips accordingly.
CATEGORIES:Boree Log,Climbing
LOCATION:http://-33.564245,150.225959
END:VEVENT
BEGIN:VTIMEZONE
TZID:Australia/Sydney
X-LIC-LOCATION:Australia/Sydney
BEGIN:DAYLIGHT
DTSTART:20251005T030000
TZOFFSETFROM:+1000
TZOFFSETTO:+1100
TZNAME:AEDT
END:DAYLIGHT
END:VTIMEZONE
END:VCALENDAR