BEGIN:VCALENDAR
VERSION:2.0
PRODID:-//wp-events-plugin.com//7.2.3.1//EN
TZID:Australia/Sydney
X-WR-TIMEZONE:Australia/Sydney
BEGIN:VEVENT
UID:3217@unswoc.org
DTSTART;TZID=Australia/Sydney;VALUE=DATE:20230319
DTEND;TZID=Australia/Sydney;VALUE=DATE:20230320
DTSTAMP:20230312T233319Z
URL:https://unswoc.org/wordpress/events/sunday-bl-lower-bowens-creek-north
 -canyon/
SUMMARY:[FULL] SUNDAY BL - Lower Bowens Creek North Canyon
DESCRIPTION:You need to be approved for the main Boree Log event to attend 
 these trips. If you get rejected then you can sign up for another trip\, t
 his just makes it easier for volunteer trip leaders. Please be aware that 
 as the weather is unpredictable\, trip leaders may need to alter trips acc
 ordingly\n&nbsp\;\nTRIP IS FULL :(\n[caption id="" align="aligncenter" wid
 th="900"] Photo courtesy of OZultimate.com[/caption]\n\nMake sure you read
  the entire description\, and bring all the required gear\n\nHey everyone!
 \n\nAlfie and I will be leading a trip to Lower Bowens Creek North (Gobsma
 cker) Canyon on the Sunday of Boree Log.\n\nParticipants will need to be c
 omfortable with abseiling\, cold swims\, and a reasonable walk in and out.
 \n\nThe following gear can be provided but please bring your own gear if y
 ou can as there is limited supply:\n\n 	Harness\n 	Helmet\n 	3x locking ca
 rabiners\n 	1x Figure 8 / Descender\n 	1x Safety sling\n 	Drybag\n 	Wetsui
 t\n\nGear that won't be provided that you MUST bring:\n\n 	Emergency blank
 et - available for purchase from the Gear Cupboard for $5 or from most out
 door stores\n 	Backpack that can fit ALL your gear and that you won't mind
  getting wet\n 	Clothing:\n\n 	Enclosed shoes with good grip (old sneakers
  are best!)\n 	Wool / neoprene socks\n 	Boardshorts to wear on top of wets
 uit (compulsory to protect the club wetsuits)\n 	Thermals and raincoat\n 	
 Gloves (gardening gloves are ok)\n 	Swimmers\n 	NO COTTON! (this includes 
 socks\, shirts\, pants\, undies\, etc)\n\n\n 	Food:\n\n 	2L of water\n 	Lu
 nch\n 	Snacks to share!\n\n\n 	Miscellaneous:\n\n 	Medication (asthma puff
 er\, Epipen etc)\n 	A pair of thongs/flipflops to leave in the car (since 
 your shoes will get wet) + towel / change of clothes\n 	Phone or camera fo
 r photos (optional\, and only if you’re prepared for it to get wet if yo
 ur drybag leaks!)\n\n\n\nIn the comments please let us know your canyoning
  / abseiling / rope skills / outdoor experience\, if you have a car and ho
 w many spots you have\, as well as your favourite gelato flavour 🍦\n\nH
 ope to see you there :)
CATEGORIES:Boree Log,Canyoning
END:VEVENT
BEGIN:VTIMEZONE
TZID:Australia/Sydney
X-LIC-LOCATION:Australia/Sydney
BEGIN:DAYLIGHT
DTSTART:20221002T030000
TZOFFSETFROM:+1000
TZOFFSETTO:+1100
TZNAME:AEDT
END:DAYLIGHT
END:VTIMEZONE
END:VCALENDAR