BEGIN:VCALENDAR
VERSION:2.0
PRODID:-//wp-events-plugin.com//7.2.3.1//EN
TZID:Australia/Sydney
X-WR-TIMEZONE:Australia/Sydney
BEGIN:VEVENT
UID:3554@unswoc.org
DTSTART;TZID=Australia/Sydney;VALUE=DATE:20250323
DTEND;TZID=Australia/Sydney;VALUE=DATE:20250324
DTSTAMP:20250320T020730Z
URL:https://unswoc.org/wordpress/events/sunday-bl-lower-bowens-creek-north
 -canyon-2/
SUMMARY:[FULL] Sunday BL - LOWER BOWENS CREEK NORTH Canyon
DESCRIPTION:You need to be approved for the main Boree Log event to attend 
 these trips. Please sign up for only ONE trip per day. If you get rejected
  you can then sign up for another trip\, this just makes it easier for vol
 unteer trip leaders. Please be aware that as the weather is unpredictable\
 , trip leaders may need to alter trips accordingly\n\n\n[caption id="attac
 hment_18131" align="aligncenter" width="900"] Photo courtesy of OZultimate
 .com[/caption]\n\nMake sure you read the entire description\, and bring al
 l the required gear\n\nHey everyone!\n\nNadav and I will be leading a trip
  to Lower Bowens Creek North (Gobsmacker) Canyon on the Sunday of Boree L
 og.\n\nParticipants will need to be comfortable with abseiling\, cold swim
 s\, and a long walk in and out.\n\nThe following gear can be provided but 
 please bring your own gear if you can as there is limited supply:\n\n 	Har
 ness\n 	Helmet\n 	3x locking carabiners\n 	1x Figure 8 / Descender\n 	1x S
 afety sling\n 	Drybag\n 	Wetsuit\n\nGear that can't be provided that you M
 UST bring:\n\n 	Emergency blanket – available for purchase from the Gear
  Cupboard for $5 or from most outdoor stores\n 	Backpack that can fit ALL 
 your gear and that you won’t mind getting wet\n 	Clothing:\n\n 	Enclosed
  shoes with good grip (old sneakers are best!)\n 	Wool / neoprene socks\n 
 	Boardshorts to wear on top of wetsuit (compulsory to protect the club wet
 suits)\n 	Thermals and raincoat\n 	Gloves (gardening gloves are ok)\n 	Swi
 mmers\n 	NO COTTON! (this includes socks\, shirts\, pants\, undies\, etc)
 \n\n\n 	Food:\n\n 	2L of water\n 	Lunch\n 	Snacks to share!\n\n\n 	Miscell
 aneous:\n\n 	Medication (asthma puffer\, Epipen etc)\n 	A pair of thongs/f
 lipflops to leave in the car (since your shoes will get wet) + towel / cha
 nge of clothes\n 	Phone or camera for photos (optional\, and only if you
 ’re prepared for it to get wet if your drybag leaks!)\n\n\n\nIn the comm
 ents please let us know your canyoning / abseiling / rope skills / outdoor
  experience\, if you have a car and how many spots you have\, as well as y
 our favourite chocolate bar so Nadav and I can also eat it :).
CATEGORIES:Boree Log,Canyoning
LOCATION:https://maps.app.goo.gl/pUKv5S83Kw2RFndk7
END:VEVENT
BEGIN:VTIMEZONE
TZID:Australia/Sydney
X-LIC-LOCATION:Australia/Sydney
BEGIN:DAYLIGHT
DTSTART:20241006T030000
TZOFFSETFROM:+1000
TZOFFSETTO:+1100
TZNAME:AEDT
END:DAYLIGHT
END:VTIMEZONE
END:VCALENDAR