BEGIN:VCALENDAR
VERSION:2.0
PRODID:-//wp-events-plugin.com//7.2.3.1//EN
TZID:Australia/Sydney
X-WR-TIMEZONE:Australia/Sydney
BEGIN:VEVENT
UID:3561@unswoc.org
DTSTART;TZID=Australia/Sydney;VALUE=DATE:20250323
DTEND;TZID=Australia/Sydney;VALUE=DATE:20250324
DTSTAMP:20250318T015956Z
URL:https://unswoc.org/wordpress/events/sunday-bl-lockleys-pylon-walking-t
 rack-beginner/
SUMMARY:CANCELLED SUNDAY BL - LOCKLEYS PYLON Hike (Beginner)
DESCRIPTION:Hey All!\n\nJas and I will be leading a trip to Lockley's Pylon
  on Sunday 23rd March (Sunday of Boree Log)! Come along to enjoy gorgeous 
 views of the Grose Valley as you traverse through the heath to a small pea
 k that overlooks the sandstone cliffs of Mt Hay and Mt Banks (see photos!)
 \n\n    \n\nWalk Details: \n\n 	Distance - 7km return\n 	Time - 2-3 hou
 rs\n\n&nbsp\;\n\nWhat to Bring: \n\n 	Water Bottle\n 	Sunscreen\n 	Hat\n 
 	Daypack\n 	Personal Medication (if required)\n 	Head-torch\n 	Lunch &amp\
 ; Trail Snacks\n 	Wet Weather Gear (just in case)\n 	Sturdy Hiking Shoes\n
  	Jacket/Windbreaker (may get windy)\n\n&nbsp\;\n\nGetting There: \n\n 	L
 eave Sunday morning after clean-up. Drive 45 minutes to Leura before drivi
 ng inland 20 minutes to the trailhead (Google Maps: Lockley's Pylon Trailh
 ead)\n 	Once we have finished the hike\, we can head back to Sydney via Le
 ura\n\n&nbsp\;\n\nHandy Links for Further Info: \n\nhttps://www.alltrails
 .com/trail/australia/new-south-wales/lockleys-pylon\n\nhttps://www.nationa
 lparks.nsw.gov.au/things-to-do/walking-tracks/lockley-pylon-walking-track\
 n\n&nbsp\;\n\nHow to Come Along? \n\nIn the comments\, please let us know
  what hikes you have done before\, what your favourite song is currently &
 amp\; whether you have a CAR. See you there :)\n\n&nbsp\;\n\nPLEASE NOTE: 
 You need to be approved for the main Boree Log event to attend these trips
 . Please sign up for only ONE trip per day. If you get rejected you can th
 en sign up for another trip\, this just makes it easier for volunteer trip
  leaders. Please be aware that as the weather is unpredictable\, trip lead
 ers may need to alter trips accordingly.
CATEGORIES:Boree Log,Hectic Hiking
LOCATION:https://www.google.com/maps/place/Lockleys+Pylon+Trailhead/@-33.65
 11656,150.3667171,17z/data=!3m1!4b1!4m6!3m5!1s0x6b1270406a6f8cc5:0x83643a1
 6b2651aa7!8m2!3d-33.6511657!4d150.371588!16s%2Fg%2F11c6rwmv3l?entry=ttu&g_
 ep=EgoyMDI1MDIyNi4xIKXMDSoASAFQAw%3D%3D
END:VEVENT
BEGIN:VTIMEZONE
TZID:Australia/Sydney
X-LIC-LOCATION:Australia/Sydney
BEGIN:DAYLIGHT
DTSTART:20241006T030000
TZOFFSETFROM:+1000
TZOFFSETTO:+1100
TZNAME:AEDT
END:DAYLIGHT
END:VTIMEZONE
END:VCALENDAR