BEGIN:VCALENDAR
VERSION:2.0
PRODID:-//wp-events-plugin.com//7.2.3.1//EN
TZID:Australia/Sydney
X-WR-TIMEZONE:Australia/Sydney
BEGIN:VEVENT
UID:3560@unswoc.org
DTSTART;TZID=Australia/Sydney;VALUE=DATE:20250323
DTEND;TZID=Australia/Sydney;VALUE=DATE:20250324
DTSTAMP:20250320T020834Z
URL:https://unswoc.org/wordpress/events/sunday-bl-jugglers-canyon-beginner
 s-dry/
SUMMARY:SUNDAY BL - JUGGLERS Canyon [Beginners - Dry]
DESCRIPTION:Hey hey team\,\n\nHammy and I (Oliver) are leading a trip on Su
 nday through Jugglers Canyon!\n\n&nbsp\;\n\nYou need to be approved for th
 e main Boree Log event to attend these trips. Please sign up for only ONE 
 trip per day. If you get rejected you can then sign up for another trip\, 
 this just makes it easier for volunteer trip leaders. Please be aware that
  as the weather is unpredictable\, trip leaders may need to alter trips ac
 cordingly.\n\n&nbsp\;\n\nThis is going to be a super awesome trip! Juggler
 s is a super pleasant canyon near the Grand Canyon at Medlow Bath.\n\n\n\n
 &nbsp\;\n\nMore info and pics can be found here: https://ozultimate.com/ca
 nyoning/track_notes/jugglers.htm\n\nThis is a dry canyon so don’t expect
  to get too wet\, but expect at least wet feet/legs. It will still be chil
 ly however so bring warm clothes. e.g. Thermals beneath your clothes with 
 a rain jacket on top.\n\nWhat to Expect:\n\n 	10kms of bush bashing and lo
 ts of walking up and down\n 	Abseiling and heights!\n 	Beautiful slot cany
 ons\n 	Hopefully no tiger snakes!\n 	Knee deep wading\n\n&nbsp\;\n\nPlease
  fill out the form when you sign up and comment with your experience and
  your favourite piece of outdoors gear.\nIf you haven't already added a me
 thod of contacting you to the website please update your profile.\n\n&nbsp
 \;\n\nPlease make you sure bring ALL required gear. Some gear is available
  to borrow from camp but it is limited - if you have any of your own pleas
 e bring it!\n\nGear available to borrow from the club:\n\n 	Harness\n 	Hel
 met\n 	3x locking carabiners\n 	1x Figure 8 / Descender\n 	1x Safety slin
 g\n 	Drybag (likely to be none available if you have one use your own but 
 really not that critical)\n\nOther gear you MUST bring:\n\n 	Backpack tha
 t can fit ALL your gear and that can get wet (30L+)\n 	Clothing:\n\n 	Enc
 losed shoes with good grip\, suitable for water and bushwalking\n 	Wool 
 socks\n 	Thermals and raincoat\n 	NO COTTON! (this includes socks\, shirt
 s\, pants\, undies\, etc)\n\n\n 	Food:\n\n 	2L of water (minimum)\n 	Lunch
 \n 	Snacks to share (with me)\n\n\n 	Other:\n\n 	Medication (asthma puffer
 \, Epipen etc)\n 	Headtorch + spare batteries\n 	Emergency blanket – (c
 an buy from Gear Cupboard for $5 or from chemists\, shops\, etc)\n\n\n\n&n
 bsp\;\n\nGet keen and see ya there!
CATEGORIES:Boree Log,Canyoning
LOCATION:https://maps.app.goo.gl/U91eqQoe9PfVWEyg6
END:VEVENT
BEGIN:VTIMEZONE
TZID:Australia/Sydney
X-LIC-LOCATION:Australia/Sydney
BEGIN:DAYLIGHT
DTSTART:20241006T030000
TZOFFSETFROM:+1000
TZOFFSETTO:+1100
TZNAME:AEDT
END:DAYLIGHT
END:VTIMEZONE
END:VCALENDAR