BEGIN:VCALENDAR
VERSION:2.0
PRODID:-//wp-events-plugin.com//7.2.3.1//EN
TZID:Australia/Sydney
X-WR-TIMEZONE:Australia/Sydney
BEGIN:VEVENT
UID:3768@unswoc.org
DTSTART;TZID=Australia/Sydney:20260322T100000
DTEND;TZID=Australia/Sydney:20260322T170000
DTSTAMP:20260322T003324Z
URL:https://unswoc.org/wordpress/events/sunday-bl-grand-canyon-walking-tra
 ck-hike-beginner/
SUMMARY:SUNDAY BL - COXS CAVE LOOP [Beginner]
DESCRIPTION:“You need to be approved for the main Boree Log event to atte
 nd these trips. Please sign up for only ONE trip per day. If you get rejec
 ted you can then sign up for another trip\, this just makes it easier for 
 volunteer trip leaders. Please be aware that as the weather is unpredictab
 le\, trip leaders may need to alter trips accordingly”\n\n\n\nHello\,\nC
 layton\, Loki (my dog)\, and  I (Rory) will be running the Coxs Cave Loop
  Hike this Boree.\nThis hike is a 2-3 hr walk starting at Mount Piddington
  and containing some stunning scenery.\n\nYou can read more about it here\
 n\nParts of this walk are fairly exposed\, so please pack your hat and sun
 screen. Make sure you're prepared for all weather conditions\, including r
 ain &amp\; cold (please read the packing list). Long pants are recommended
  to defend against ticks and scratchy plants. While this is a beginner tri
 p\, you can expect some steep-ish sections and rough ground. Bring your ad
 venturous spirit :).\n\n&nbsp\;\n\n&nbsp\;\n\nWhat to Bring:\n\n 	Lunch fo
 r the day (and snacks)\n 	2L water **Super important**\n 	A raincoat (we 
 will be doing this\, rain or shine)\n 	Sturdy shoes\n 	Any personal medica
 tion\n 	Appropriate sun protection\n\n&nbsp\;\n\nIf you're keen let me kno
 w Your hiking experience\, what superpower would you give your arch enemy 
 and why (so I know you've read this)\, and whether you have a car. If you
  have any questions feel free to reach out to either of us on Facebook Mes
 senger\n\n&nbsp\;\n\nHope to see you there!\n\nRory and Clayton.\n\n&nbsp\
 ;
CATEGORIES:Boree Log,Bushwalking,Hectic Hiking
LOCATION:https://share.google/xIvssujk6MenXyyl8
END:VEVENT
BEGIN:VTIMEZONE
TZID:Australia/Sydney
X-LIC-LOCATION:Australia/Sydney
BEGIN:DAYLIGHT
DTSTART:20251005T030000
TZOFFSETFROM:+1000
TZOFFSETTO:+1100
TZNAME:AEDT
END:DAYLIGHT
END:VTIMEZONE
END:VCALENDAR