BEGIN:VCALENDAR
VERSION:2.0
PRODID:-//wp-events-plugin.com//7.2.3.1//EN
TZID:Australia/Sydney
X-WR-TIMEZONE:Australia/Sydney
BEGIN:VEVENT
UID:3689@unswoc.org
DTSTART;TZID=Australia/Sydney;VALUE=DATE:20251019
DTEND;TZID=Australia/Sydney;VALUE=DATE:20251020
DTSTAMP:20251014T093532Z
URL:https://unswoc.org/wordpress/events/sunday-bl-grand-canyon-beginner-hi
 ke/
SUMMARY:SUNDAY BL - GRAND CANYON WALKING TRACK Hike [Beginner]
DESCRIPTION:“You need to be approved for the main Boree Log event to atte
 nd these trips. Please sign up for only ONE trip per day. If you get rejec
 ted you can then sign up for another trip\, this just makes it easier for 
 volunteer trip leaders. Please be aware that as the weather is unpredictab
 le\, trip leaders may need to alter trips accordingly”\n\n\n\nHello Hiki
 ng enthusiasts from across Boree Log\,\n\nLooking for a stunning hike to f
 inish of an amazing weekend?\n\nPhoebe and I (Noah) are running a beginner
  hike along the grand Canyon walking track. The Grand Canyon is an amazing
  walking track on the edge of the Grose Valley with a little bit of everyt
 hing. From panoramic views at Evans lookout to lush forests of ferns in th
 e canyon\, and beautiful glimpses of Australian flora and fauna this hike 
 is truly has everything.\n\nThe hike is 5.8km long with 300m of elevation 
 and should take 3ish hours (we will be having a lunch break to make the wa
 lk out easier)\, if you want to read more about it\, have a look at the al
 ltrails here.\n\n&nbsp\;\n\nWhat to Bring:\n\n 	Lunch for the day (and sna
 cks)\n 	2L water **Super important**\n 	A raincoat (we will be doing this
 \, rain or shine)\n 	Sturdy shoes\n 	Any personal medication\n 	Appropriat
 e sun protection\n\n&nbsp\;\n\nIf you're keen let me know Your hiking expe
 rience\, what the most boring food is the world is (so I know you've read
  this)\, and whether you have a car. If you have any questions feel free 
 to reach out to either of us on Facebook Messenger\, or email me at events
 @unswoc.org.\n\n&nbsp\;\n\nHope to see you there!\n\nNoah and Phoebe.\n\n&
 nbsp\;
ATTACH;FMTTYPE=image/jpeg:https://unswoc.org/wordpress/wp-content/uploads/
 2025/10/grand-canyon-track-01.jpg
CATEGORIES:Boree Log,Bushwalking,Hectic Hiking
LOCATION:https://maps.app.goo.gl/FUPjbq1QV1tqhbrf8
END:VEVENT
BEGIN:VTIMEZONE
TZID:Australia/Sydney
X-LIC-LOCATION:Australia/Sydney
BEGIN:DAYLIGHT
DTSTART:20251005T030000
TZOFFSETFROM:+1000
TZOFFSETTO:+1100
TZNAME:AEDT
END:DAYLIGHT
END:VTIMEZONE
END:VCALENDAR