BEGIN:VCALENDAR
VERSION:2.0
PRODID:-//wp-events-plugin.com//7.2.3.1//EN
TZID:Australia/Sydney
X-WR-TIMEZONE:Australia/Sydney
BEGIN:VEVENT
UID:2548@unswoc.org
DTSTART;TZID=Australia/Sydney;VALUE=DATE:20191027
DTEND;TZID=Australia/Sydney;VALUE=DATE:20191028
DTSTAMP:20191019T234936Z
URL:https://unswoc.org/wordpress/events/sunday-bl-empress-canyon/
SUMMARY:Sunday BL - *TRIP FULL* Empress Canyon
DESCRIPTION:Howdy\,\n\nBack agian for another day of canyoning!! Alie and I
  invite you to come down Empress canyon with us. A good one if you are fai
 rly new to canyoning or just want an easy trip on the way home if you go a
  bit hard Saturday night! Still plenty of excitement is to be had with a f
 ew jumps and slides and one big abseil at the end. We will depart from cam
 p after a bit of packing up on sunday morning. Make sure to click Attendin
 g on the actual Boree log in order to be accepted on this trip.\n\nYou wil
 l be expected provide the following equipment yourselves:\n\n 	Thermals\n 
 	Backpack\n 	Lunch\n 	Snacks (preferably sugary ones)\n 	Dry bag\n 	Enclos
 ed shoes (volleys are best)\n 	Hat/sunscreen\n 	Wool socks\n 	Headtorch\n 
 	Dry clothes\n 	**MUST HAVE** Safety/Space Blanket (will be available for 
 $5 cash on the day)\n\nWe can provide the following equipment if you don't
  have your own:\n\n 	Wetsuit\n 	Helmet\n 	Harness\n 	Descender\n 	Locking 
 biner x2\n 	Safety sling\n\nAdditional Notes:\n- If you wear/bring cotton 
 socks you will be left at the car.\n- If you have your own\, waterproof ca
 mera or first aid kit feel free to bring it!
ATTACH;FMTTYPE=image/jpeg:https://unswoc.org/wordpress/wp-content/uploads/
 2019/10/j9fntd5sukir98qwlncv.jpg
CATEGORIES:Boree Log,Canyoning
END:VEVENT
BEGIN:VTIMEZONE
TZID:Australia/Sydney
X-LIC-LOCATION:Australia/Sydney
BEGIN:DAYLIGHT
DTSTART:20191006T030000
TZOFFSETFROM:+1000
TZOFFSETTO:+1100
TZNAME:AEDT
END:DAYLIGHT
END:VTIMEZONE
END:VCALENDAR