BEGIN:VCALENDAR
VERSION:2.0
PRODID:-//wp-events-plugin.com//7.2.3.1//EN
TZID:Australia/Sydney
X-WR-TIMEZONE:Australia/Sydney
BEGIN:VEVENT
UID:2554@unswoc.org
DTSTART;TZID=Australia/Sydney;VALUE=DATE:20191027
DTEND;TZID=Australia/Sydney;VALUE=DATE:20191028
DTSTAMP:20191020T015027Z
URL:https://unswoc.org/wordpress/events/sunday-bl-devils-pinch-canyon-inte
 rmediate/
SUMMARY:Sunday BL - *TRIP FULL* Devils Pinch Canyon (Intermediate)
DESCRIPTION:Hi all\,\n\nBrendon and I (Josh) will be running Devils Pinch C
 anyon on Sunday the 27th. This canyon is suitable for intermediate canyone
 rs however we are willing to take a few beginners with a good level of fit
 ness and/or abseiling experience. All participants must be able to swim.\n
 \nSign up below and chuck me/Brendon a message on Facebook with any questi
 ons\, your outdoors experience\, car situation and gear requirements.\n\nW
 hat to bring:\n\n 	Emergency blanket (Mandatory for all club canyoning tri
 ps. You can grab one from the gear cupboard or at Boree Log for $5 cash)\n
  	Harness*\n 	Descender (ATC) and biner*\n 	Safety sling and biner*\n 	Hel
 met*\n 	Enclosed shoes (Keep in mind that these shoes will be wet and beat
 en up in the canyon. Don't wear your best boots in)\n 	Shorts (This goes o
 ver your wetsuit so bring a pair that you don't mind wearing out)\n 	Wool 
 or polyester socks (NO COTTON)\n 	Spare jacket for after the canyon\n 	Spa
 re dry clothes (this is left in the car)\n 	Thermals (optional\, but bring
  them to wear under your wetsuit if your susceptible to the cold)\n 	2 lit
 res of water\n 	Lunch &amp\; snacks\n 	Drybag*\n\n  (*) - Can be borrowed
  from the club\n\nMake sure the clothes you wear are not made of cotton. W
 hen cotton gets wet\, it ceases to insulate you as all of the air pockets 
 in the fabric fill up with water.\n\nTLDR: you will be very cold.\n\nSee y
 ou on Sunday!
CATEGORIES:Boree Log,Canyoning
END:VEVENT
BEGIN:VTIMEZONE
TZID:Australia/Sydney
X-LIC-LOCATION:Australia/Sydney
BEGIN:DAYLIGHT
DTSTART:20191006T030000
TZOFFSETFROM:+1000
TZOFFSETTO:+1100
TZNAME:AEDT
END:DAYLIGHT
END:VTIMEZONE
END:VCALENDAR