BEGIN:VCALENDAR
VERSION:2.0
PRODID:-//wp-events-plugin.com//7.2.3.1//EN
TZID:Australia/Sydney
X-WR-TIMEZONE:Australia/Sydney
BEGIN:VEVENT
UID:3663@unswoc.org
DTSTART;TZID=Australia/Sydney;VALUE=DATE:20251019
DTEND;TZID=Australia/Sydney;VALUE=DATE:20251020
DTSTAMP:20251010T135614Z
URL:https://unswoc.org/wordpress/events/sunday-bl-devils-hole-hike/
SUMMARY:[1 SPOT LEFT] SUNDAY BL - DEVILS HOLE Hike
DESCRIPTION:Please Note: You need to be approved for the main Boree Log eve
 nt to attend these trips. Please sign up for only ONE trip per day. If you
  get rejected you can then sign up for another trip\, this just makes it e
 asier for volunteer trip leaders. Please be aware that as the weather is u
 npredictable\, trip leaders may need to alter trips accordingly.\n\nPhoto 
 credits: Serena-yu on Reddit\n\n\n\nNote: This trip cannot take any more p
 articipants\, unless you have a car.\nHellooooo!\n\nCallum and I (Sudarsha
 n) will be leading an intermediate hike through the Devils Hole in Katoomb
 a.\n\nIt promises to be a lovely day hike\, featuring waterfalls\, a micro
 -canyon\, classic rainforest\, clifftop\, and maybe even a caving sideques
 t if we're keen!!!\n\nIt has a total length of about 11km and elevation ga
 in of 600m\, and I expect it to take about 5 hours.\n\nThis trail will req
 uire good fitness as there are some off-track sections and lots of rock sc
 rambling and is not beginner friendly.\n\nCheck out the track notes here\,
  and the last 500m of the route in this video.\n\n&nbsp\;\n\nWhat to bring
 :\n\n 	Sturdy shoes!\n 	Small-medium sized backpack to hold your belonging
 s\n 	At least 2L of water **super important to have enough water!!**\n 	Lu
 nch and snacks for the day\n 	Sun protection: sunscreen + hat\n 	Any perso
 nal medication you may need\n\n&nbsp\;\n\nSo\, if you are keen for a hike\
 , please tell us your hiking experience so far\, the best hole you've eve
 r been in (just so we know you’ve read all this information) and whether
  you have a car in your comment below… and get in early before signups 
 are full.\n\nAs this is the Sunday trip\, we need to know the car informat
 ion so that we can all get home afterwards!\n\nIf you have any questions\,
  feel free to reach out to me\, Sudarshan – my facebook is here (yes it'
 s under a pseudonym)
ATTACH;FMTTYPE=image/jpeg:https://unswoc.org/wordpress/wp-content/uploads/
 2025/09/the-devils-hole-katoomba-v0-6r4qx72vtmnc1.webp
CATEGORIES:Boree Log,Bushwalking,Hectic Hiking
LOCATION:https://maps.app.goo.gl/Utfvys9KCSpA6Mot7
END:VEVENT
BEGIN:VTIMEZONE
TZID:Australia/Sydney
X-LIC-LOCATION:Australia/Sydney
BEGIN:DAYLIGHT
DTSTART:20251005T030000
TZOFFSETFROM:+1000
TZOFFSETTO:+1100
TZNAME:AEDT
END:DAYLIGHT
END:VTIMEZONE
END:VCALENDAR