BEGIN:VCALENDAR
VERSION:2.0
PRODID:-//wp-events-plugin.com//7.2.3.1//EN
TZID:Australia/Sydney
X-WR-TIMEZONE:Australia/Sydney
BEGIN:VEVENT
UID:3495@unswoc.org
DTSTART;TZID=Australia/Sydney;VALUE=DATE:20241013
DTEND;TZID=Australia/Sydney;VALUE=DATE:20241014
DTSTAMP:20240927T015600Z
URL:https://unswoc.org/wordpress/events/sunday-bl-day-hike/
SUMMARY:SUNDAY BL - GRAND CANYON - DAY HIKE
DESCRIPTION:Hey everyone!\n\nSarry and I will be leading a beginner friendl
 y hiking trip through the Grand Canyon Trail in Blackheath. This is a supe
 r accessible\, fun and beautiful trail through a canyon with views over th
 e Grose Valley at Evans lookout.\n\nAll experience levels are welcome\; wh
 ether you are:\n\n-looking to take a stroll through the beautiful Australi
 an bush for the first time\n\n-are a well-seasoned hiker\n\n-or looking fo
 r something chill to do with a hangover (so valid)\n\nThis trail is a 6.5k
 m circuit and while it is well marked\, will require good fitness as there
  are steep sections with lots of stairs. While we will not be in a rush an
 d stopping for regular breaks\, please do not sign up for this event if yo
 u are not prepared to walk up the equivalent of many flights of stairs.\n\
 nIt will be an all-day event and we will arrange car-pooling from the camp
 site at Cathedral of Ferns in the morning\, and then carpooling home to Sy
 dney at the end of the trip.\n\nWhat to bring:\n\n 	Small-medium sized bac
 kpack comfortable for walking\n 	At least 2L water **super important to ha
 ve enough water!!**\n 	Food/snacks for the day including lunch *for the ha
 ngry*\n 	Sunscreen/hat\n 	raincoat\n 	Comfortable clothes to walk in (get 
 the lulu lemons on) **it may be best to wear long pants**\n 	hiking boots 
 or comfortable shoes to walk in (and get dirty)\n 	warm layers (jumper or 
 jacket)\n 	Chalk (optional)\n\n&nbsp\;\n**Please Note: You need to be appr
 oved for the main Boree Log event to attend these trips. Please sign up fo
 r only ONE trip per day. If you get rejected you can then sign up for anot
 her trip\, this just makes it easier for volunteer trip leaders. Please be
  aware that as the weather is unpredictable\, trip leaders may need to alt
 er trips accordingly**\n&nbsp\;\n\nSo\, if you are keen for a little meand
 ering in the bush\, please tell us your hiking experience so far\, your
  bucket list hike/trail (just so we know you’ve read all this informati
 on)\, any medical information we should be aware of and whether you have a
  car in your comment below… and get in early before signups are full.\n
 \nFor  organising carpooling\, preference will be given to those who have
  cars first so that everyone has a way there and home to Sydney.\n\nIf you
  have any questions feel free to send Sarry or myself a message.\n\nCrisp 
 high five\,\n\nEmily and Sarry
LOCATION:https://www.google.com/maps/place/evans+lookout/data=!4m2!3m1!1s0x
 6b1271e9e00cef89:0x613100ed36955ced?sa=X&ved=1t:155783&ictx=111
END:VEVENT
BEGIN:VTIMEZONE
TZID:Australia/Sydney
X-LIC-LOCATION:Australia/Sydney
BEGIN:DAYLIGHT
DTSTART:20241006T030000
TZOFFSETFROM:+1000
TZOFFSETTO:+1100
TZNAME:AEDT
END:DAYLIGHT
END:VTIMEZONE
END:VCALENDAR