BEGIN:VCALENDAR
VERSION:2.0
PRODID:-//wp-events-plugin.com//7.2.3.1//EN
TZID:Australia/Sydney
X-WR-TIMEZONE:Australia/Sydney
BEGIN:VEVENT
UID:3221@unswoc.org
DTSTART;TZID=Australia/Sydney;VALUE=DATE:20230319
DTEND;TZID=Australia/Sydney;VALUE=DATE:20230320
DTSTAMP:20230313T000836Z
URL:https://unswoc.org/wordpress/events/sunday-bl-dam-cliffs/
SUMMARY:[FULL] SUNDAY BL - Dam Cliffs
DESCRIPTION:Elliot\, Marcus and I (Zara)\, will lead be leading a hectic cl
 imbing trip on Sunday of Boree Log to Dam Cliffs.\n\nIt features some chil
 l climbing at easy to intermediate grades. It also has a swimming hole whe
 re you can attempt some deep water solo if you’re feeling brave. Or you 
 can just chill out in the water. (great Sunday hangover activity)\n\nYou w
 ill need:\n\n 	*Helmet\n 	*Harness\n 	*Belay device + Locking Carabiner\n 
 	*Climbing Shoes\n 	Food + water (at least 2L!!)\n 	Swimmers and towel (if
  you want to go for a swim)\n 	Backpack to carry the above\n 	Appropriate 
 clothing (check the weather)\n 	petrol money for you driver\n 	good vibes\
 n\n*These items can be borrowed the morning of Boree Log\, but it may run 
 out so BYO if you have it to avoid disappointment.\n\nIn the comments\, te
 ll me why you’re keen\, your climbing experience\, and if you have any s
 pots in your car :)\n\nYou must be approved to the main Boree Log event to
  attend these trips. If you get rejected then you can sign up for another 
 trip\, this just makes it easier for volunteer trip leaders. Please be awa
 re that as the weather is unpredictable\, trip leaders may need to alter t
 rips accordingly.
CATEGORIES:Climbing
END:VEVENT
BEGIN:VTIMEZONE
TZID:Australia/Sydney
X-LIC-LOCATION:Australia/Sydney
BEGIN:DAYLIGHT
DTSTART:20221002T030000
TZOFFSETFROM:+1000
TZOFFSETTO:+1100
TZNAME:AEDT
END:DAYLIGHT
END:VTIMEZONE
END:VCALENDAR