BEGIN:VCALENDAR
VERSION:2.0
PRODID:-//wp-events-plugin.com//7.2.3.1//EN
TZID:Australia/Sydney
X-WR-TIMEZONE:Australia/Sydney
BEGIN:VEVENT
UID:3084@unswoc.org
DTSTART;TZID=Australia/Sydney;VALUE=DATE:20221016
DTEND;TZID=Australia/Sydney;VALUE=DATE:20221017
DTSTAMP:20221008T050452Z
URL:https://unswoc.org/wordpress/events/sunday-bl-dam-cliffs-sport-climbin
 g/
SUMMARY:SUNDAY BL - DAM CLIFFS Sport Climbing
DESCRIPTION:Hey everyone!\n\nGabe and I (Daniel) will be leading a sport cl
 imbing trip to DAM CLIFFS!!\n\n[caption id="attachment_14133" align="align
 right" width="225"] Gabe hiding in a crack at Dam Cliffs[/caption]\n\nThis
  is a lovely crag (one of my favourites tbh) with a lot of fun\, beginner-
 friendly climbs all super close together. There’s also a dam right next 
 to the crag that makes a lovely swimming spot to cool off after a days cli
 mbing\, or to try your first deep water solo!!\n\nAny gear that you requir
 e can be collected from the gear trailer the morning of.\n\n 	Gear: harnes
 s\, helmet\, climbing shoes\, ATC + carabiner (if you have your own make s
 ure you bring it!!!)\n 	What to bring: sunscreen\, 2L water (minimum!)\
 , food for the day\, sporty clothes\, a warm jacket\, a day backpack to fi
 t all your stuff inside\, camera\, smiles\, etc.\n 	Swimming stuff: swimme
 rs\, towel\, etc. if you want to go for a swim or deep water solo after cl
 imbing\n\nYou need to be approved for the main Boree Log event to attend t
 hese trips. Please sign up for only ONE trip per day. If you get rejected 
 you can then sign up for another trip\, this just makes it easier for volu
 nteer trip leaders.\nPlease be aware that as the weather is unpredictable\
 , trip leaders may need to alter trips accordingly.\n\nPlease include in t
 he comments: your climbing experience\, whether you have a car\, if you ar
 e keen to learn how to lead climb\, and how you would (hypothetically) des
 troy a large dam.\n\nIf you have any questions\, feel free to message any 
 of us on Facebook (Gabriel Dickinson or Daniel Gilbert). Hope to see you t
 here!\n\n
CATEGORIES:Boree Log,Climbing,Outdoor Climbing
END:VEVENT
BEGIN:VTIMEZONE
TZID:Australia/Sydney
X-LIC-LOCATION:Australia/Sydney
BEGIN:DAYLIGHT
DTSTART:20221002T030000
TZOFFSETFROM:+1000
TZOFFSETTO:+1100
TZNAME:AEDT
END:DAYLIGHT
END:VTIMEZONE
END:VCALENDAR