BEGIN:VCALENDAR
VERSION:2.0
PRODID:-//wp-events-plugin.com//7.2.3.1//EN
TZID:Australia/Sydney
X-WR-TIMEZONE:Australia/Sydney
BEGIN:VEVENT
UID:3391@unswoc.org
DTSTART;TZID=Australia/Sydney;VALUE=DATE:20240317
DTEND;TZID=Australia/Sydney;VALUE=DATE:20240318
DTSTAMP:20240305T053625Z
URL:https://unswoc.org/wordpress/events/sunday-bl-dam-cliffs-sport-climbin
 g-2/
SUMMARY:[FULL] SUNDAY BL - DAM CLIFFS Sport Climbing
DESCRIPTION:Hello keen beans!!\n\nPeta\, Caitlin and I (Jayden) will be at 
 Dam Cliffs on Sunday for some awesome beginner sport climbing!\n\nThe day 
 will consist of fun climbs (top rope and lead)\, vibes\, swims and cliff j
 umps! Perfect for the day after a thrifty threads PARTY\n\nWe will not be 
 returning to the campground after the trip so please bring everything with
  you.\nPlease read the description in full and answer all questions below 
 :)\n\n&nbsp\;\n\n\nAlmost everyone in this photo is named Jayden (let us k
 now in the comments who you reckon is the odd one out :p)\n\nWhat to bring
 :\n\n(Items with an asterisk will be provided by the club if required\, pl
 ease do bring your own if you have though!)\n\n 	*Harness\n 	*Helmet\n 	*C
 limbing shoes\n 	*ATC + Carabiner\n 	2L water (minimum!)\n 	Food for the d
 ay\n 	Any required medication (asthma inhaler\, epipen etc.) &lt\;&gt\;\n 
 	Sunscreen\n 	Clothes to protect from sun\, keep you warm and allow flexib
 ility!\n 	Day backpack to fit all your stuff\n 	Swimming stuff: swimmers\,
  towel etc. if you want to go for a swim/deep water solo after climbing\n\
 n&lt\;&gt\; If you have any relevant medical considerations please let one
  of the trip leaders know. (Feel free to message us\, include it in your c
 omment\, chat with us in person or let the group know on the day\, whichev
 er is most comfortable for you)\n\n\n\nYou need to be approved for the mai
 n Boree Log event to attend these trips. Please sign up for only ONE trip 
 per day. If you get rejected you can then sign up for another trip\, this 
 just makes it easier for volunteer trip leaders. Please be aware that as t
 he weather is unpredictable\, trip leaders may need to alter trips accordi
 ngly\n\n\n\n\nPlease include in the comments: your climbing experience\, w
 hat you'd like to learn on the trip\, whether you have a car and where you
 're returning after the trip!\n\nAny questions\, please do ask Peta or mys
 elf and we'll be happy to help!!\n\n\n\n
CATEGORIES:Boree Log,Outdoor Climbing
LOCATION:https://maps.app.goo.gl/S4L9wGLNtQio1S4v8
END:VEVENT
BEGIN:VTIMEZONE
TZID:Australia/Sydney
X-LIC-LOCATION:Australia/Sydney
BEGIN:DAYLIGHT
DTSTART:20231001T030000
TZOFFSETFROM:+1000
TZOFFSETTO:+1100
TZNAME:AEDT
END:DAYLIGHT
END:VTIMEZONE
END:VCALENDAR