BEGIN:VCALENDAR
VERSION:2.0
PRODID:-//wp-events-plugin.com//7.2.3.1//EN
TZID:Australia/Sydney
X-WR-TIMEZONE:Australia/Sydney
BEGIN:VEVENT
UID:3498@unswoc.org
DTSTART;TZID=Australia/Sydney;VALUE=DATE:20241013
DTEND;TZID=Australia/Sydney;VALUE=DATE:20241014
DTSTAMP:20240930T220737Z
URL:https://unswoc.org/wordpress/events/sunday-bl-dam-cliffs-extravaganza/
SUMMARY:[FULL] SUNDAY BL – DAM CLIFFS EXTRAVAGANZA
DESCRIPTION:“You need to be approved for the main Boree Log event to atte
 nd these trips. Please sign up for only ONE trip per day. If you get rejec
 ted you can then sign up for another trip\, this just makes it easier for 
 volunteer trip leaders. Please be aware that as the weather is unpredictab
 le\, trip leaders may need to alter trips accordingly”\n&nbsp\;\n\nNick 
 Tang and I (Jayden) will be leading a swimming/ deep water solo/ beginner 
 climbing trip to Dam Cliffs. This is a paradise for chill climbing\, deep 
 water solo\, swimming\, cliff jumping\, and very easy (grade 10) to very h
 ard (grade 28) sport climbing routes.\n\nOur group may also do a little ru
 n through of Dargans creek canyon. This is a no abseil\, fairly short cany
 on/ creek scramble\, but does require wetsuits!\n\nThe plan is to drive fr
 om the campground where we are camping on Saturday night (Cathedral Reserv
 e at Mount Wilson) to the crag\, where we will set up top ropes\, spend so
 me time swimming and depending on group vibes we may run through the canyo
 n! No climbing experience is needed. It will just generally be a splendid 
 day out. Get keen beans!\n\nYou will need:\n\n 	Climbing gear: A harness*\
 , a helmet* and locking carabiner* attached to an ATC* . Optional but reco
 mmended chalk bag and climbing shoes.\n 	For clothing: Sport clothes. It c
 an get quite hot or quite chilly\, so be prepared for both. Wetsuit* (if w
 e choose to run through the canyon)\n 	For eating: 2L of water\, food or s
 nacks\, chocolate for the trip leaders please.\n 	Other gear: swimmers\, 
 sunscreen\, medicines if you need them (asthma puffer\, etc).\n\n(* = club
  will provide it)\n\nIf you have any questions\, feel free to message Jayd
 en Maisel on facebook. Let us know how much experience you have with climb
 ing/ canyoning/ outdoors activities and how you'd like to spend your day w
 ith all the awesome activities on offer? Please also let us know whether y
 ou have A CAR (plus what type cos its a rough road) 🙂.
ATTACH;FMTTYPE=image/jpeg:https://unswoc.org/wordpress/wp-content/uploads/
 2024/09/20221015_154443_Original-1-scaled.jpg
CATEGORIES:Abseiling,Boree Log,Canyoning,Climbing,Outdoor Climbing
LOCATION:https://g.co/kgs/qwDR7ph
END:VEVENT
BEGIN:VTIMEZONE
TZID:Australia/Sydney
X-LIC-LOCATION:Australia/Sydney
BEGIN:DAYLIGHT
DTSTART:20241006T030000
TZOFFSETFROM:+1000
TZOFFSETTO:+1100
TZNAME:AEDT
END:DAYLIGHT
END:VTIMEZONE
END:VCALENDAR