BEGIN:VCALENDAR
VERSION:2.0
PRODID:-//wp-events-plugin.com//7.2.3.1//EN
TZID:Australia/Sydney
X-WR-TIMEZONE:Australia/Sydney
BEGIN:VEVENT
UID:3387@unswoc.org
DTSTART;TZID=Australia/Sydney;VALUE=DATE:20240317
DTEND;TZID=Australia/Sydney;VALUE=DATE:20240318
DTSTAMP:20240304T060459Z
URL:https://unswoc.org/wordpress/events/sunday-bl-dam-cliffs-bonanza-begin
 ner-canyon-2/
SUMMARY:[FULL] SUNDAY BL - DAM CLIFFS BONANZA Beginner Canyon
DESCRIPTION:Hey all\, come join Alfie\, Stephen and I (Mali) at the playgro
 und that is Dam Cliffs.Its got everything\, canyoning\, climbing and even 
 a beach!\n\nPlan is to head down the canyon first\, then come back to the 
 dam and chill\, swim\, deep-water solo\, slackline\, zipline (?)\, and lot
 s of jumps :0\n\n\nMargot coming off the zipline! Deep-water solo wall in 
 background too \n\nPlease write down in the comments if you have a car an
 d let us know what your psyched on and what your canyon/rope experience is
 .\n\n&nbsp\;\n\nWHAT TO BRING:\n\n 	Dry bag*\n 	Helmet*\n 	Enclosed shoes 
 that you can walk in while wet\n 	Warm socks (not cotton!!)\n 	Wetsuit* (M
 inimum 3mm\, recommended 5mm)\n 	Harness and belay device*\n 	Shorts to go
  over and protect your wetsuit\n 	Water (at least 1.5L)\n 	Headtorch\n 	Em
 ergency blanket (can be purchased from the club for $5)\n 	Warm clothes (b
 ring a dry set of thermals to go in the drybag\, not cotton!!)\n 	Backpack
  that will fit all your gear and can get wet\n 	Food to last the whole day
  (including some snacks to have on the go!)\n 	Climbing shoes\n 	Towel\n\n
 *Can borrow from the club\, we will bring all the gear to Boree Log\n\n&nb
 sp\;\n\n&nbsp\;
CATEGORIES:Boree Log,Canyoning,Outdoor Climbing
LOCATION:https://www.google.com/maps/place/Dam+Cliffs/@-33.4828844,150.2471
 719,17z/data=!4m12!1m5!3m4!2zMzPCsDI4JzU4LjQiUyAxNTDCsDE0JzU5LjIiRQ!8m2!3d
 -33.48288!4d150.249779!3m5!1s0x6b127560f1369bf5:0xc730b7fcab61f218!8m2!3d-
 33.4833877!4d150.2498072!16s%2Fg%2F1pw3yc30n?entry=ttu
END:VEVENT
BEGIN:VTIMEZONE
TZID:Australia/Sydney
X-LIC-LOCATION:Australia/Sydney
BEGIN:DAYLIGHT
DTSTART:20231001T030000
TZOFFSETFROM:+1000
TZOFFSETTO:+1100
TZNAME:AEDT
END:DAYLIGHT
END:VTIMEZONE
END:VCALENDAR