BEGIN:VCALENDAR
VERSION:2.0
PRODID:-//wp-events-plugin.com//7.2.3.1//EN
TZID:Australia/Sydney
X-WR-TIMEZONE:Australia/Sydney
BEGIN:VEVENT
UID:3556@unswoc.org
DTSTART;TZID=Australia/Sydney;VALUE=DATE:20250323
DTEND;TZID=Australia/Sydney;VALUE=DATE:20250324
DTSTAMP:20250320T133201Z
URL:https://unswoc.org/wordpress/events/sunday-bl-dam-cliffs-beginner-spor
 t-climbing/
SUMMARY:SUNDAY BL – DAM CLIFFS Beginner Sport Climbing
DESCRIPTION:Hi :)\n\nCaity and myself (Aaron) will be running a beginner sp
 ort climbing trip to Dam Cliffs on the Sunday of Boree Log. Dam Cliffs is 
 the paradise for chill climbing\, deep water solo\, swimming\, cliff jumpi
 ng\, and very easy (grade 10) to very hard (grade 28) sport climbing route
 s.\n\nZero climbing experience is needed. If you´re a competent lead clim
 ber and lead belayer\, you're also welcome. It will be an awesome day out 
 and you will need:\n\n 	Climbing gear: A harness*\, a helmet* and locking
  carabiner* attached to an ATC* (* = club will provide it). Optional but r
 ecommended chalk bag and climbing shoes.\n 	For clothing: Sport clothes. 
 It can get quite hot or quite chilly\, so be prepared for both.\n 	For eat
 ing: 2 L of water\, plenty of food for lunch + snacks\,\n 	Other gear: swi
 mmers\, sunscreen\, medicines if you need them (asthma puffer\, etc)\n\n&n
 bsp\;\n\n\n\nPlease write down YOUR EXPERIENCE in the comments and whethe
 r you have A CAR 🙂  We will make sure everyone has a SPOT IN A CAR 
 TO GET BACK TO SYDNEY. Also please tell me what your favourite genre of mu
 sic is\, so we can accommodate your taste while we chill by the water.\n\n
 If you have any questions feel free to contact Caity or myself.\n\nNOTE:\n
 You need to be approved for the main Boree Log event to attend these trips
 . Please sign up for only ONE trip per day. If you get rejected you can th
 en sign up for another trip\, this just makes it easier for volunteer trip
  leaders. Please be aware that as the weather is unpredictable\, trip lead
 ers may need to alter trips accordingly
CATEGORIES:Boree Log,Climbing,Outdoor Climbing
LOCATION:https://www.google.com/maps/dir/?api=1&destination=-33.484536,150.
 250534
END:VEVENT
BEGIN:VTIMEZONE
TZID:Australia/Sydney
X-LIC-LOCATION:Australia/Sydney
BEGIN:DAYLIGHT
DTSTART:20241006T030000
TZOFFSETFROM:+1000
TZOFFSETTO:+1100
TZNAME:AEDT
END:DAYLIGHT
END:VTIMEZONE
END:VCALENDAR