BEGIN:VCALENDAR
VERSION:2.0
PRODID:-//wp-events-plugin.com//7.2.3.1//EN
TZID:Australia/Sydney
X-WR-TIMEZONE:Australia/Sydney
BEGIN:VEVENT
UID:3672@unswoc.org
DTSTART;TZID=Australia/Sydney:20251019T090000
DTEND;TZID=Australia/Sydney:20251019T170000
DTSTAMP:20251015T234300Z
URL:https://unswoc.org/wordpress/events/sunday-bl-dam-cliffs-beginner-clim
 bing-3/
SUMMARY:[FULL] SUNDAY BL – DAM CLIFFS Beginner Climbing
DESCRIPTION:Juri and I will be leading a beginner climbing trip to Dam clif
 fs. Find all the details here: https://www.thecrag.com/en/climbing/austral
 ia/blue-mountains/medlow-bath . You must be approved for Boree Log to att
 end.The plan is to drive from the campground where we are camping on Satur
 day night to the crag\, where we will set up top ropes for everyone to c
 limb. No climbing experience is needed. If you´re a competent lead climbe
 r and lead belayer\, you're also welcome. It will be an awesome day out an
 d you will need:\n\n 	Climbing gear: A harness*\, a helmet* and locking c
 arabiner* attached to an ATC* (* = club will provide it). Optional but rec
 ommended chalk bag and climbing shoes.\n 	For clothing: Sport clothes. It
  can get quite hot or quite chilly\, so be prepared for both.\n 	For eatin
 g: 2 l of water\, food or snacks.\n 	Other gear: sunscreen\, medicines if 
 you need them (asthma puffer\, etc).\n 	Swimmers: For swimming at the dam
 \n\nYou need to be approved for the main Boree Log event to attend these t
 rips. Please sign up for only ONE trip per day. If you get rejected you ca
 n then sign up for another trip\, this just makes it easier for volunteer 
 trip leaders.\n\nPlease be aware that as the weather is unpredictable\, tr
 ip leaders may need to alter trips accordingly\n\n\n\n
CATEGORIES:Boree Log,Outdoor Climbing
LOCATION:https://maps.app.goo.gl/7TMS8euiY5PCyD437
END:VEVENT
BEGIN:VTIMEZONE
TZID:Australia/Sydney
X-LIC-LOCATION:Australia/Sydney
BEGIN:DAYLIGHT
DTSTART:20251005T030000
TZOFFSETFROM:+1000
TZOFFSETTO:+1100
TZNAME:AEDT
END:DAYLIGHT
END:VTIMEZONE
END:VCALENDAR