BEGIN:VCALENDAR
VERSION:2.0
PRODID:-//wp-events-plugin.com//7.2.3.1//EN
TZID:Australia/Sydney
X-WR-TIMEZONE:Australia/Sydney
BEGIN:VEVENT
UID:3485@unswoc.org
DTSTART;TZID=Australia/Sydney;VALUE=DATE:20241013
DTEND;TZID=Australia/Sydney;VALUE=DATE:20241014
DTSTAMP:20241013T013419Z
URL:https://unswoc.org/wordpress/events/sunday-bl-dam-cliffs-beginner-clim
 bing-2/
SUMMARY:[FULL] SUNDAY BL – DAM CLIFFS BEGINNER CLIMBING
DESCRIPTION:“You need to be approved for the main Boree Log event to atte
 nd these trips. Please sign up for only ONE trip per day. If you get rejec
 ted you can then sign up for another trip\, this just makes it easier for 
 volunteer trip leaders. Please be aware that as the weather is unpredictab
 le\, trip leaders may need to alter trips accordingly”\n\n&nbsp\;\n\nCri
 spy and I (Steve) will be leading a beginner climbing trip to Dam Cliffs.
  Dam Cliffs is the paradise for chill climbing\, deep water solo\, swimmi
 ng\, cliff jumping\, and very easy (grade 10) to very hard (grade 28) spor
 t climbing routes (find all the details here: https://www.thecrag.com/clim
 bing/australia/blue-mountains/the-dams-cliffs).\n\n&nbsp\;\n\nThe plan is 
 to drive from the campground where we are camping on Saturday night (Cathe
 dral Reserve at Mount Wilson) to the crag\, where we will set up top ropes
  for everyone to climb. No climbing experience is needed. If you´re a com
 petent lead climber and lead belayer\, you´re also welcomed. It will be a
 n awesome day out and you will need:\n\n 	Climbing gear: A harness*\, a h
 elmet* and locking carabiner* attached to an ATC* (* = club will provide i
 t). Optional but recommended chalk bag and climbing shoes.\n 	For clothing
 : Sport clothes. It can get quite hot or quite chilly\, so be prepared fo
 r both.\n 	For eating: 2L of water\, food or snacks\, chocolate for the tr
 ip leaders please.\n 	Other gear: swimmers\, sunscreen\, medicines if you 
 need them (asthma puffer\, etc)\n\nIf you have any questions message me St
 eve on facebook. Write down YOUR EXPERIENCE in the comments and whether yo
 u have A CAR (plus what type cos its a rough road) 🙂 and what your favo
 rite climbing snack is.   We will make sure everyone has a SPOT IN A CAR 
 TO GET BACK TO SYDNEY. See you there!
LOCATION:https://g.co/kgs/qwDR7ph
END:VEVENT
BEGIN:VTIMEZONE
TZID:Australia/Sydney
X-LIC-LOCATION:Australia/Sydney
BEGIN:DAYLIGHT
DTSTART:20241006T030000
TZOFFSETFROM:+1000
TZOFFSETTO:+1100
TZNAME:AEDT
END:DAYLIGHT
END:VTIMEZONE
END:VCALENDAR