BEGIN:VCALENDAR
VERSION:2.0
PRODID:-//wp-events-plugin.com//7.2.3.1//EN
TZID:Australia/Sydney
X-WR-TIMEZONE:Australia/Sydney
BEGIN:VEVENT
UID:3400@unswoc.org
DTSTART;VALUE=DATE:20240317
DTEND;VALUE=DATE:20240318
DTSTAMP:20240308T121535Z
URL:https://unswoc.org/wordpress/events/sunday-bl-dalpura-creek-or-wollang
 ambe-river-beginner-hike/
SUMMARY:[FULL] SUNDAY BL - DALPURA CREEK or WOLLANGAMBE RIVER Beginner Hike
DESCRIPTION:You need to be approved for the main Boree Log event to attend 
 these trips. Please sign up\nfor only ONE trip per day. If you get rejecte
 d you can then sign up for another trip\, this just\nmakes it easier for v
 olunteer trip leaders. Please be aware that as the weather is\nunpredictab
 le\, trip leaders may need to alter trips accordingly\n\nGet ready for a n
 ice hike to either Dalpura creek or the Wollangambe. Dalpura creek would b
 e a short drive and approximately 4.5 kms return or Wollangambe river whic
 h is a short hike from the campground and should take us about 3 hours to 
 complete plus some chill time.\n\n&nbsp\;\n\nWhat does it involve?\n\n- So
 me fun hiking probably involving hills :)\n\n- Bring lunch and water\n\n- 
 a few small swims\n\n- Wear stretchy/loose clothing\, a bit of a scramble 
 may be required\n\nNo actual skills or gear required though!\n\n&nbsp\;\n\
 nWhat to bring:\n\n 	Closed toe shoes (sneakers / hiking boots recommended
 \, shoes that can get wet would be most convenient)\n 	Hiking appropriate 
 clothes (send me a message if you need more direction than that and I will
  help you out).\n 	Lunch and snacks\n 	2L water\n 	Hat\n 	Bag to carry you
 r stuff\n 	Maybe a raincoat in case the weather turns\n 	Swimmers / Towel 
 if you want to go for a quick swim.\n 	Good spirits.\n\nComment about your
  transportation situation and your favourite food!\n\nPlease be aware that
  as the weather is unpredictable\, trip leaders may need to alter trips ac
 cordingly.
ATTACH;FMTTYPE=image/jpeg:https://unswoc.org/wordpress/wp-content/uploads/
 2023/08/IMG_1958-2-scaled.jpeg
CATEGORIES:Boree Log,Bushwalking
LOCATION:https://maps.app.goo.gl/pYahhrWpG5f12YTa6
END:VEVENT
END:VCALENDAR