BEGIN:VCALENDAR
VERSION:2.0
PRODID:-//wp-events-plugin.com//7.2.3.1//EN
TZID:Australia/Sydney
X-WR-TIMEZONE:Australia/Sydney
BEGIN:VEVENT
UID:3348@unswoc.org
DTSTART;TZID=Australia/Sydney;VALUE=DATE:20231015
DTEND;TZID=Australia/Sydney;VALUE=DATE:20231016
DTSTAMP:20231012T031917Z
URL:https://unswoc.org/wordpress/events/sunday-bl-climbing-at-babylon-area
 s-beginner-intermediate/
SUMMARY:[FULL] SUNDAY BL - Climbing at Babylon Areas (Beginner/Intermediate
 )
DESCRIPTION:This trip is only for Boree Log participants\, check your trip 
 requests to see if you’ve been accepted. If you get rejected then you ca
 n sign up for another trip\, this just makes it easier for volunteer trip 
 leaders. Please be aware that as the weather is unpredictable\, trip leade
 rs may need to alter trips accordingly.\n\nSign ups will open 9am Sunday 
 October 8th\n\nAngela\, Amelia and I (Mali) will be heading over to Babylo
 n Areas on the Boree Log Sunday. The aim is to check out a bit more of an 
 adventurous Nowra sport crag\, but from the looks of the guide there's ple
 nty of easy-moderate-hard climbing to be had. This trip will be perfect fo
 r you if you want to be climbing and chilling in nature\, and not have you
 r climbing defined by the jetski soundscapes of thompson's point :)\n\nChe
 ck out the crag for yourself here: https://www.thecrag.com/climbing/austra
 lia/nowra/babylon-areas/area/12016843\n\nWe’ll meet by the trailer at th
 e campground on Sunday morning and carpool. At the end of the day Ange and
  I won't be heading back to Sydney\, so people with cars will be prioritis
 ed!\n\nMost gear is provided from the trailer including a harness\, helmet
 \, safety sling\, locking carabiners\, belay device\, ropes and draws but 
 you’ll need to bring:\n\n 	Sunscreen\n 	2L water (stay hydrated!)\n 	Foo
 d\, snacks to share\n 	Comfy clothes and shoes\n 	Warm jacket\n 	Medicatio
 n if required\n\nOptional to bring:\n\n 	CLIMBING SHOES (not essential\, 
 but you'll have a much better time if you bring some. They can be hired fr
 om the club gear nights.)\n 	Chalk bagIn the comments please let us know\n
  	Your climbing experience (indoor/outdoor\, grades\, ability to lead clim
 b/belay)\,\n 	If you have a car and how many spots you have\,\n 	Your favo
 urite mesopotamian city\,\n 	And if you’ve completed your early vote for
  the Referendum!\n\n&nbsp\;
ATTACH;FMTTYPE=image/jpeg:https://unswoc.org/wordpress/wp-content/uploads/
 2023/09/379417331_324786426665690_7067223785445002267_n-scaled.jpg
CATEGORIES:Boree Log,Climbing,Outdoor Climbing
LOCATION:https://www.google.com/maps/place/34%C2%B048'38.7%22S+150%C2%B026'
 58.0%22E/@-34.810749,150.4468731,17z/data=!3m1!4b1!4m14!1m9!4m8!1m3!2m2!1d
 150.4493364!2d-34.8109342!1m3!2m2!1d150.449263!2d-34.812054!3m3!8m2!3d-34.
 810749!4d150.449448?entry=ttu
END:VEVENT
BEGIN:VTIMEZONE
TZID:Australia/Sydney
X-LIC-LOCATION:Australia/Sydney
BEGIN:DAYLIGHT
DTSTART:20231001T030000
TZOFFSETFROM:+1000
TZOFFSETTO:+1100
TZNAME:AEDT
END:DAYLIGHT
END:VTIMEZONE
END:VCALENDAR