BEGIN:VCALENDAR
VERSION:2.0
PRODID:-//wp-events-plugin.com//7.2.3.1//EN
TZID:Australia/Sydney
X-WR-TIMEZONE:Australia/Sydney
BEGIN:VEVENT
UID:2380@unswoc.org
DTSTART;VALUE=DATE:20190324
DTEND;VALUE=DATE:20190325
DTSTAMP:20200903T020610Z
URL:https://unswoc.org/wordpress/events/sunday-bl-claustral-canyon-interme
 diate-only/
SUMMARY:SUNDAY BL - Claustral Canyon [Intermediate ONLY]
DESCRIPTION:[Copied mostly from Sid's trip running the day before on Saturd
 ay]\n\n[This is the SUNDAY trip]\n\nAah\, Claustral. The gem of Blueys can
 yons.\n3 incredible waterfall abseils into one of the deepest\, darkest\, 
 longest\, greenest slots in the Blue Mountains.\nJoin us on the Sunday of 
 Boree Log trip exploring this amazing environment\, with a side-trip up Th
 under Gorge and a caving-like scramble to a glow worm cave! We’ll start 
 early on Sunday morning\, aiming to leave the campsite by 0800.\n\nYou MU
 ST have had previous abseiling experience\, be physically fit and prepare
 d for a long day – up to 11hrs. The hike out is steep and fairly long. 
 You must also be approved for Boree Log to attend.\n\nGEAR: (* = can borr
 ow from UNSWOC)\nPlease note that this is a long day\, with very few bailo
 ut options. Double\, triple check you have all of the non-asterisk’d ite
 ms on this list BEFORE leaving Sydney. Items borrowed from the club will b
 e organised on Saturday morning.\n\n 	Canyoning gear:\n– Harness*\n– H
 elmet*\n– 3x locking carabiner*\n– 1x ATC\n– 1x 120cm safety sling*\
 n– Prusik cord*\n– Drybag*\n– Headtorch (Ideally waterproof/resistan
 t)\n– Backpack that can fit ALL your gear in and that can get wet.\n 	Cl
 othing:\n– Wetsuit*\n– Enclosed shoes with good grip\n– Wool socks\n
 – Boardshorts to wear on top of wetsuit\n– Thermals to wear under your
  wetsuit (optional\, but helpful)\n– Warm\, lightweight jacket to put in
  your dry bag. (100% mandatory. This is in case we get stuck\, and you nee
 d to change into something warm)\n 	Food:\n– 1.5L Water in bottles (FULL
  when we leave camp)\n– Substantial lunch (pack it in a waterproof conta
 iner\, and make sure it’s vaguely crush-proof)\n– Snacks\n– Chocolat
 e or something nice to share!\n 	Miscellaneous:\n– Any personal medicine
  (asthma puffer\, Epipen etc)\n– A pair of thongs/flipflops to leave in 
 the car (since your shoes will get wet)\n– Phone or camera for photos (o
 ptional\, and only if you’re prepared for it to get wet if your drybag l
 eaks! Bring a ziploc bag or two to protect it)\n\nIf you have any question
 s\, message me (Stephen Roche) or Henry Burt on facebook. Write down YO
 UR ABSEILING/OUTDOOR EXPERIENCE in the comment when signing up and whethe
 r you have A CAR 🙂  We will make sure everyone has a SPOT IN A CAR 
 TO GET BACK TO SYDNEY. See you there!\n\n\n\nPS. You must be approved for 
 Boree Log to attend this trip!
CATEGORIES:Canyoning
END:VEVENT
END:VCALENDAR