BEGIN:VCALENDAR
VERSION:2.0
PRODID:-//wp-events-plugin.com//7.2.3.1//EN
TZID:Australia/Sydney
X-WR-TIMEZONE:Australia/Sydney
BEGIN:VEVENT
UID:2386@unswoc.org
DTSTART;VALUE=DATE:20190324
DTEND;VALUE=DATE:20190325
DTSTAMP:20190312T112919Z
URL:https://unswoc.org/wordpress/events/sunday-bl-canyoning-whungee-wheeng
 ee-%f0%9f%a4%99/
SUMMARY:SUNDAY BL - Beginner Canyoning to Whungee Wheengee  🤙
DESCRIPTION:Ally\, Ping and I (Glenn) are leading a beginner canyoning trip
  to Whungee Wheengee on Sunday for Borree Log!! Check here for more detail
 s. You must be approved for Borree Log to join 🙂\n\n\n\nThere's no bett
 er way to cure a hangover on Sunday morning than abseiling\, jumping and s
 crambling through a canyon all while in refreshingly cold water. This is a
  super fun canyon but there is a big hike in and another uphill hike out s
 o it is very important that you have a reasonable level of fitness and b
 eing able to swim is a MUST. This is also a colder than usual canyon so 
 bring thermals. If you don't know how to abseil we can teach you on the da
 y.\n\nGEAR: (* = can borrow from UNSWOC)\nItems borrowed from the club wi
 ll be organised on Sunday morning. Please make sure you don't forget anyth
 ing that you have to bring from Sydney!\n\n 	Canyoning gear:\n– Harness*
 \n– Helmet*\n– 3x locking carabiner*\n– 1x ATC*\n– 1x 120cm safety
  sling*\n– Prusik cord*\n– Drybag*  (better if you bring your own - c
 an buy a kind of okay one for cheap from kmart)\n– Headtorch (Ideally wa
 terproof/resistant\, very important if we finish late)\n– Backpack that 
 can fit ALL your gear in and can get wet.\n 	Clothing:\n– Thermals to we
 ar under your wetsuit (very important in this canyon)\n– Wetsuit*\n– E
 nclosed shoes with good grip\n– Wool socks to keep your tootsies warm\n
 – Boardshorts to wear on top of wetsuit\n– Warm\, lightweight clothes 
 to put in your dry bag. (100% mandatory. This is in case we get stuck\, an
 d you need to change into something warm)\n 	Food:\n– 1.5L Water in bott
 les (FULL when we leave camp)\n– Substantial lunch\n– Snacks\n– Your
  favourite food to share!\n 	Miscellaneous:\n– Any personal medicine (as
 thma puffer\, Epipen etc)\n– A pair of thongs/flipflops to leave in the 
 car (since your shoes will get wet)\n– Phone or camera for photos (optio
 nal\, and only if you’re prepared for it to get wet if your drybag leaks
 ! However everyone on the trip will love you if you take photos)\n\n\n\nIf
  you have any questions feel free to message me\,  Ally or Ping on Fac
 ebook.\nLet us know your canyoning/abseiling experience and whether you ha
 ve a car in your comment.
CATEGORIES:Boree Log,Canyoning
END:VEVENT
END:VCALENDAR