BEGIN:VCALENDAR
VERSION:2.0
PRODID:-//wp-events-plugin.com//7.2.3.1//EN
TZID:Australia/Sydney
X-WR-TIMEZONE:Australia/Sydney
BEGIN:VEVENT
UID:2340@unswoc.org
DTSTART;VALUE=DATE:20181125
DTEND;VALUE=DATE:20181126
DTSTAMP:20181119T111127Z
URL:https://unswoc.org/wordpress/events/sunday-bl-canyoning-the-empress-fa
 lls/
SUMMARY:SUNDAY BL Canyoning the Empress Falls
DESCRIPTION:Kieran and I (Maria) are leading a beginner canyoning trip to t
 he Empress Falls. It's a short\, wet and beautiful canyon with a final abs
 eil down a waterfall and the only requirements are knowing how to swim and
  being a bit fit! If you have a car you get preference\, so send me a mess
 age on Facebook.\n\nYou will need:\n\n- Canyoning gear: a harness\, helmet
 \, wetsuit\, atc\, carabiner (can be borrowed from the club).\n\n- A backp
 ack that will get wet with a DRY BAG inside that will not get wet (to keep
  your clothes dry while you wear the wetsuit\, the club has some dry bags 
 but it's better if you bring your own: $10-$20 from Decathlon or Anaconda)
 .\n\n- A headtorch\, comfortable enclosed shoes with good grip\, lunch\, w
 ater\, swimmers\, WOOLEN socks (no cotton)\, and a keen sense of adventure
 !\n\nMaria :)
CATEGORIES:Canyoning
END:VEVENT
END:VCALENDAR