BEGIN:VCALENDAR
VERSION:2.0
PRODID:-//wp-events-plugin.com//7.2.3.1//EN
TZID:Australia/Sydney
X-WR-TIMEZONE:Australia/Sydney
BEGIN:VEVENT
UID:3096@unswoc.org
DTSTART;TZID=Australia/Sydney;VALUE=DATE:20221016
DTEND;TZID=Australia/Sydney;VALUE=DATE:20221017
DTSTAMP:20221009T082246Z
URL:https://unswoc.org/wordpress/events/sunday-bl-canyon-beginner-intermed
 iate/
SUMMARY:SUNDAY BL - Canyon (Beginner/Intermediate)
DESCRIPTION:Canyon TBA (Depending on weather - if inclement it will be a fu
 n technical abseiling trip)\n\nZee\, Jayden and Brendan will run a canyon/
 chasm with a series of technical abseils\, beautiful scenery!\n\nWhat you 
 need to know? Expect a great day canyoning for around 8+ hrs round trip\, 
 a walk up the river at the end\, and a scramble to exit.\n\nEssential gear
 :\n\n 	Space blanket/emergency blanket (mandatory!).\n 	Headlamp (mandator
 y) w/ batteries\n 	Lunch/snacks and water (1.5L) for 8 hrs of potential ca
 nyoning. Fueling yourselves is essential\n 	Spare dry clothes/thermals/jum
 per/beanie\n 	Dry bag to keep electronics/spare clothes warm.\n 	Appropria
 te clothing - no cotton - when wet it loses heat fast! Think hiking clothe
 s with boardies/swim shorts to protect wetsuit from damage.\n 	Shoes with 
 good grip and suitable for water - trainers with warm socks.\n 	Wet-suit (
 BYO if you have one\, else borrow from Boree Log Gear Pool)\n 	Wet-suit bo
 oties/gloves (It will be cold in Autumn)\n 	Helmet (BYO if you have one\, 
 else borrow from Boree Log Gear Pool)\n 	Harness (BYO if you have one\, el
 se borrow from Boree Log Gear Pool)\n 	Descender/ Figure 8 and Karabiner (
 BYO if you have one\, else borrow from Boree Log Gear Pool)\n 	Safety Slin
 g and Karabiner (BYO if you have one\, else borrow from Boree Log Gear Poo
 l)\n 	+30L backpack to keep your drybag/gear. Expect it to get wet/scratch
 ed.\n 	Any medication/medical devices you need.\n\n&nbsp\;\n\n&nbsp\;\n\nS
 ignups open 7am Monday 10th October. You must also be Approved for the mai
 n Boree Log Event.\n\nPlease comment any experience/hype/questions you hav
 e in the comment box below (Make sure to say something! - it best to have 
 a mix of beginners and experienced). Also comment your car and the number 
 of seats available.
ATTACH;FMTTYPE=image/jpeg:https://unswoc.org/wordpress/wp-content/uploads/
 2022/08/20220123_015436000_iOS-Brendan-Conneely.jpg
CATEGORIES:Boree Log,Canyoning
END:VEVENT
BEGIN:VTIMEZONE
TZID:Australia/Sydney
X-LIC-LOCATION:Australia/Sydney
BEGIN:DAYLIGHT
DTSTART:20221002T030000
TZOFFSETFROM:+1000
TZOFFSETTO:+1100
TZNAME:AEDT
END:DAYLIGHT
END:VTIMEZONE
END:VCALENDAR