BEGIN:VCALENDAR
VERSION:2.0
PRODID:-//wp-events-plugin.com//7.2.3.1//EN
TZID:Australia/Sydney
X-WR-TIMEZONE:Australia/Sydney
BEGIN:VEVENT
UID:3105@unswoc.org
DTSTART;TZID=Australia/Sydney;VALUE=DATE:20221016
DTEND;TZID=Australia/Sydney;VALUE=DATE:20221017
DTSTAMP:20221012T022829Z
URL:https://unswoc.org/wordpress/events/sunday-bl-canyon-beginner-intermed
 iate-2/
SUMMARY:Sunday BL - Lower North Bowens Canyon (Beginner and Intermediate)
DESCRIPTION:Lower North Bowens (Depending on weather and group experience)\
 n\nLower North Bowens is one of my favourite Blueys canyons. It has jumps\
 , swims an awesome abseil and an absolutely stunning slot\n\nWhat you need
  to know? Expect a great day canyoning for around 7+ hrs round trip\, a wa
 lk up the river at the end\, and an easy roped climb to exit (or scramble 
 depending on canyon).\n\nEssential gear:\n\n 	Space blanket/emergency blan
 ket (mandatory!).\n 	Headlamp (mandatory) w/ batteries\n 	Lunch/snacks and
  water (1.5L) for 8 hrs of potential canyoning. Fueling yourselves is esse
 ntial\n 	Spare dry clothes/thermals/jumper/beanie\n 	Dry bag to keep elect
 ronics/spare clothes warm.\n 	Rain Coat. Provides wind protection and is c
 rucial\n 	Appropriate clothing - no cotton - when wet it loses heat fast! 
 Think hiking clothes with boardies/swim shorts to protect wetsuit from dam
 age.\n 	Shoes with good grip and suitable for water - trainers with warm s
 ocks.\n 	Wet-suit (BYO if you have one\, else borrow from Boree Log Gear P
 ool)\n 	Wet-suit booties/gloves (It will be cold in Autumn). Woollen socks
  are an ok but nowhere near as good backup\n 	Helmet (BYO if you have one\
 , else borrow from Boree Log Gear Pool)\n 	Harness (BYO if you have one\, 
 else borrow from Boree Log Gear Pool)\n 	Descender/ Figure 8 and Karabiner
  (BYO if you have one\, else borrow from Boree Log Gear Pool)\n 	Safety Sl
 ing and Karabiner (BYO if you have one\, else borrow from Boree Log Gear P
 ool)\n 	+30L backpack to keep your drybag/gear. Expect it to get wet/scrat
 ched.\n 	Any medication/medical devices you need.\n\n&nbsp\;\n\n&nbsp\;\n\
 nYou must also be Approved for the main Boree Log Event.\n\nPlease comment
  any experience/hype/questions you have in the comment box below (Make sur
 e to say something!). Also comment your car and the number of seats availa
 ble.
CATEGORIES:Boree Log,Canyoning
END:VEVENT
BEGIN:VTIMEZONE
TZID:Australia/Sydney
X-LIC-LOCATION:Australia/Sydney
BEGIN:DAYLIGHT
DTSTART:20221002T030000
TZOFFSETFROM:+1000
TZOFFSETTO:+1100
TZNAME:AEDT
END:DAYLIGHT
END:VTIMEZONE
END:VCALENDAR