BEGIN:VCALENDAR
VERSION:2.0
PRODID:-//wp-events-plugin.com//7.2.3.1//EN
TZID:Australia/Sydney
X-WR-TIMEZONE:Australia/Sydney
BEGIN:VEVENT
UID:3692@unswoc.org
DTSTART;TZID=Australia/Sydney;VALUE=DATE:20251019
DTEND;TZID=Australia/Sydney;VALUE=DATE:20251020
DTSTAMP:20251016T043017Z
URL:https://unswoc.org/wordpress/events/sunday-bl-butterbox-canyon-interme
 diate/
SUMMARY:[FULL] SUNDAY BL - WHUNGEE WHEENGEE Canyon [Intermediate/Advanced]
DESCRIPTION:Join Jason and me (Luke) for a big day of intermediate canyonin
 g in one of our favourites - Whungee Wheengee!!\nExpect a long day (8+ hou
 rs) with a big walk in and walk out\, tricky abseils\, cold swims\, and so
 me 'duck unders'. Experience in wet canyons is required for this trip.\nRe
 ad the track notes (https://ropewiki.com/Whungee_Wheengee) or shoot us a D
 M if you have any questions :)\nYou need to be approved for the main Boree
  Log event to attend these trips. Please sign up for only ONE trip per day
 . If you get rejected you can then sign up for another trip\, this just ma
 kes it easier for volunteer trip leaders. Please be aware that as the weat
 her is unpredictable\, trip leaders may need to alter trips accordingly.\n
 \nPlease make you sure bring ALL required gear. Some gear is available to 
 borrow from the club.\n\nGear available to borrow from the club:\n\n 	Harn
 ess\n 	Helmet\n 	3x locking carabiners\n 	1x Figure 8 / Descender\n 	1x S
 afety sling (120cm sling)\n 	Drybag x2\n 	Wetsuit (5mm preferable)\n 	Cany
 on Pack or Backpack that can fit ALL your gear and that can get wet (30L+
 )\n\nOther gear you MUST bring:\n\n 	Clothing:\n\n 	Enclosed shoes with g
 ood grip\n 	Wool or neoprene socks\n 	Boardshorts to wear on top of wets
 uit (compulsory to protect the club wetsuits)\n 	Thermals and raincoat\n 	
 Swimmers for under wetsuit\n 	NO COTTON! (this includes socks\, shirts\, 
 pants\, undies\, etc)\n\n\n 	Food:\n\n 	2L of water (minimum)\n 	Lunch\n 	
 Snacks to share (with me)\n\n\n 	Other:\n\n 	Medication (asthma puffer\, 
 Epipen etc)\n 	Headtorch + spare batteries\n 	Emergency blanket – (can b
 uy from Gear Cupboard for $5 or from chemists\, shops\, etc)\n\n\n\n&nbsp\
 ;\n\nIn your request to join this trip please put:\n\n 	Your fitness level
 \n 	Your swimming ability\n 	Your canyoning/outdoor experience\n 	What sna
 ck you will be bringing to share with us :))\n
CATEGORIES:Boree Log,Canyoning
LOCATION:https://maps.app.goo.gl/PK6LyafFy3MdfDp46?g_st=ic
END:VEVENT
BEGIN:VTIMEZONE
TZID:Australia/Sydney
X-LIC-LOCATION:Australia/Sydney
BEGIN:DAYLIGHT
DTSTART:20251005T030000
TZOFFSETFROM:+1000
TZOFFSETTO:+1100
TZNAME:AEDT
END:DAYLIGHT
END:VTIMEZONE
END:VCALENDAR