BEGIN:VCALENDAR
VERSION:2.0
PRODID:-//wp-events-plugin.com//7.2.3.1//EN
TZID:Australia/Sydney
X-WR-TIMEZONE:Australia/Sydney
BEGIN:VEVENT
UID:3089@unswoc.org
DTSTART;TZID=Australia/Sydney;VALUE=DATE:20221016
DTEND;TZID=Australia/Sydney;VALUE=DATE:20221017
DTSTAMP:20221009T082210Z
URL:https://unswoc.org/wordpress/events/sunday-bl-bell-supercrag-sport-cli
 mbing-beginner-intermediate/
SUMMARY:SUNDAY BL - Bell Supercrag Sport Climbing BEGINNER/INTERMEDIATE
DESCRIPTION:Hi everyone!\n\nPat\, Bek\, Zara and I (Jack) will be leading a
  sport climbing trip to Bell Crag on the Sunday of Boree Log. Bell has a m
 oderate (yet scenic) walk in\, and a huge variety of routes where we will 
 set up top ropes.\n\nSee more here: https://www.thecrag.com/en/climbing/au
 stralia/blue-mountains/bell-supercrag\n\n&nbsp\;\n\nYou need to be approve
 d for the main Boree Log event to attend these trips. Please sign up for o
 nly ONE trip per day. If you get rejected you can then sign up for another
  trip\, this just makes it easier for volunteer trip leaders. Please be aw
 are that as the weather is unpredictable\, trip leaders may need to alter 
 trips accordingly.\n\n&nbsp\;\n\nThe plan is to drive there from the campg
 round on Sunday morning (about a 15 minute drive)\, climb\, then head dire
 ctly back to Sydney at the end of the day. You will need the following gea
 r for the trip:\n\n 	Climbing gear: A harness*\, a helmet* and locking ca
 rabiner* attached to an ATC* (* = club will provide it). Optional but reco
 mmended chalk bag and climbing shoes.\n 	For clothing: Sport clothes. It c
 an get quite hot or quite chilly\, so be prepared for both and pack a war
 m jacket.\n 	For eating: 2L of water\, food or snacks.\n 	Other gear: suns
 creen\, medicines if you need them (asthma puffer\, etc).\n\nNote\, club g
 ear will be taken out to the campground on the trailer\, and you will be a
 ble to borrow club gear on the morning of the event.\n\n&nbsp\;\n\n\n\n&nb
 sp\;\n\nNumber of attendees will depend on the number of cars available. P
 lease mention if you have a car.\n\nGet keen!
ATTACH;FMTTYPE=image/jpeg:https://unswoc.org/wordpress/wp-content/uploads/
 2022/10/DSC05777-scaled.jpg
CATEGORIES:Boree Log,Climbing,Outdoor Climbing
END:VEVENT
BEGIN:VTIMEZONE
TZID:Australia/Sydney
X-LIC-LOCATION:Australia/Sydney
BEGIN:DAYLIGHT
DTSTART:20221002T030000
TZOFFSETFROM:+1000
TZOFFSETTO:+1100
TZNAME:AEDT
END:DAYLIGHT
END:VTIMEZONE
END:VCALENDAR