BEGIN:VCALENDAR
VERSION:2.0
PRODID:-//wp-events-plugin.com//7.2.3.1//EN
TZID:Australia/Sydney
X-WR-TIMEZONE:Australia/Sydney
BEGIN:VEVENT
UID:3395@unswoc.org
DTSTART;TZID=Australia/Sydney:20240317T080000
DTEND;TZID=Australia/Sydney:20240317T170000
DTSTAMP:20240310T024850Z
URL:https://unswoc.org/wordpress/events/sunday-bl-bell-supercrag-sport-cli
 mbing-beginner-intermediate-2/
SUMMARY:[FULL] SUNDAY BL - BELL SUPERCRAG Beginner/Intermediate Sport Climb
 ing
DESCRIPTION:Howdy Comrades\, Emily and myself (Ryan) will be heading to Bel
 l Supercrag on Sunday 17th of March for some beginner/intermediate friendl
 y sport climbing! (including top roping) Bell has many routes of different
  styles and grades\, and ample shade throughout the day. This is a great o
 pportunity to learn more about sport climbing techniques at a beautiful cr
 ag in the blue mountains.\n\nYou need to be approved for the main Boree Lo
 g event to attend these trips. Please sign up for only ONE trip per day. I
 f you get rejected you can then sign up for another trip\, this just makes
  it easier for volunteer trip leaders. Please be aware that as the weather
  is unpredictable\, trip leaders may need to alter trips accordingly\n\n&n
 bsp\;\n\nMAKE SURE YOU READ ALL THE INFORMATION FIRST.\n\nMore info about 
 Bell Supercrag can be found HERE\n\n[caption id="attachment_16289" align="
 aligncenter" width="351"] Matt "The Wok" Cameron on Body Blow (24) at the 
 Blowhole[/caption]\n\n\n\nCar pooling will be organised later.\n\nWhat YOU
  need to bring:\n\n 	Climbing shoes*\n 	Chalk\n 	Food/snacks for the day\n
  	At least 2L water\n 	Sunscreen\n 	Helmet*\n 	Harness*\n 	Belay device su
 ch as an ATC*\n 	Safety sling and locking carabiner*\n 	Bag to carry every
 thing\n 	Appropriate clothing for the weather\n\nItems with (*) can be bor
 rowed at Boree Log.\n\nPlease note that the walk in for Bell is long and (
 mildly) treacherous so please wear clothing appropriate for a hike\; inclu
 ding enclosed shoes. Birkenstocks and thongs will elicit corporal punishme
 nt. If you have read all of this information and this sounds like a trip y
 ou’re keen for\, you can sign up below.\n\nPlease include in the comment
 : your experience (climbing experience and anything else you think is rele
 vant\, e.g. abseiling)\, anything you’re particularly keen on learning\,
  whether you have a car\, how many people you can take\, your favourite an
 cient civilisation\, and how the walk in was described. If you have any qu
 estions please feel free to message Emily or myself.\n\n&nbsp\;
CATEGORIES:Boree Log,Outdoor Climbing
LOCATION:https://maps.app.goo.gl/SANCGTk5PY7zd4Rb8
END:VEVENT
BEGIN:VTIMEZONE
TZID:Australia/Sydney
X-LIC-LOCATION:Australia/Sydney
BEGIN:DAYLIGHT
DTSTART:20231001T030000
TZOFFSETFROM:+1000
TZOFFSETTO:+1100
TZNAME:AEDT
END:DAYLIGHT
END:VTIMEZONE
END:VCALENDAR