BEGIN:VCALENDAR
VERSION:2.0
PRODID:-//wp-events-plugin.com//7.2.3.1//EN
TZID:Australia/Sydney
X-WR-TIMEZONE:Australia/Sydney
BEGIN:VEVENT
UID:3236@unswoc.org
DTSTART;TZID=Australia/Sydney;VALUE=DATE:20230319
DTEND;TZID=Australia/Sydney;VALUE=DATE:20230320
DTSTAMP:20230310T073449Z
URL:https://unswoc.org/wordpress/events/sunday-bl-beginners-hike/
SUMMARY:SUNDAY BL - Beginner's Hike
DESCRIPTION:Hello!\n\nJayden and I (Georgie) will be running a beginner-fri
 endly hike on the Sunday of Boree Log.\n\nWhat you’ll need to bring:\n\n
  	Sturdy\, comfortable shoes or hiking boots\n 	Backpack to hold your stuf
 f\n 	Appropriate hiking clothes\n 	Hat\n 	Rain jacket\n 	Warm clothes\n 	L
 unch and snacks\n 	2 L of water – need to have this ready to go at the c
 ampground for when we leave Saturday morning (remember there is no drinkin
 g water at the campground)\n 	Headtorch\n 	Sunscreen/mosquito repellent\n 
 	Any personal medication you might normally carry with you\n\nPlease leave
  a comment in the sign ups if you have a car (including how many spots you
  have) or need a lift\, let us know your general fitness/hiking experience
 \, and tell us what your favorite plant/flower is (so we know you've read 
 this far).\n\nFeel free to contact Jayden Maisel or Georgie Clare if you h
 ave any questions. Alternatively\, we'll both be at the campsite on Friday
  and Saturday\, so feel free to come and say hi beforehand!\n\nNote: You n
 eed to be approved for the main Boree Log event to attend these trips. If 
 your request to join this trip is not approved\, you can sign up for anoth
 er one. Please be aware that as the weather is unpredictable\, trip leader
 s may need to alter trips accordingly.
CATEGORIES:Bushwalking
END:VEVENT
BEGIN:VTIMEZONE
TZID:Australia/Sydney
X-LIC-LOCATION:Australia/Sydney
BEGIN:DAYLIGHT
DTSTART:20221002T030000
TZOFFSETFROM:+1000
TZOFFSETTO:+1100
TZNAME:AEDT
END:DAYLIGHT
END:VTIMEZONE
END:VCALENDAR